Workbook
Name _______________________SBB1: #REF!
Name _______________________SBB1: #REF!
Name _______________________SBB1: #REF!
Name _______________________SBB1: #REF!
Name _______________________SBB2: #REF!
Name _______________________SBB2: #REF!
Name _______________________SBB2: #REF!
Name _______________________SBB2: #REF!
Name _______________________SBB3: #REF!
Name _______________________SBB3: #REF!
Name _______________________SBB3: #REF!
Name _______________________SBB3: #REF!
Name _______________________SBB4: #REF!
Name _______________________SBB4: #REF!
Name _______________________SBB4: #REF!
Name _______________________SBB4: #REF!
Name _______________________SBB5: #REF!
Name _______________________SBB5: #REF!
Name _______________________SBB5: #REF!
Name _______________________SBB5: #REF!
Name _______________________SHH1: #REF!
Name _______________________SHH1: #REF!
Name _______________________SHH1: #REF!
Name _______________________SHH1: #REF!
Name _______________________SHH2: #REF!
Name _______________________SHH2: #REF!
Name _______________________SHH2: #REF!
Name _______________________SHH2: #REF!
Name _______________________SHH3: #REF!
Name _______________________SHH3: #REF!
Name _______________________SHH3: #REF!
Name _______________________SHH3: #REF!
Name ______________________fg34444: BlankMacro1
Name ______________________fg34444: BlankMacro1
Name ______________________fg34444: BlankMacro1
Name ______________________fg34444: BlankMacro1
Name ______________________fg34444: BlankMacro1
Name ______________________fg34444: BlankMacro1
Name ______________________fg34444: BlankMacro1
Name ______________________SBB1: #REF!
Name ______________________SBB1: #REF!
Name ______________________SBB1: #REF!
Name ______________________SBB1: #REF!
Name ______________________SBB2: #REF!
Name ______________________SBB2: #REF!
Name ______________________SBB2: #REF!
Name ______________________SBB2: #REF!
Name ______________________SBB3: #REF!
Name ______________________SBB3: #REF!
Name ______________________SBB3: #REF!
Name ______________________SBB3: #REF!
Name ______________________SBB4: #REF!
Name ______________________SBB4: #REF!
Name ______________________SBB4: #REF!
Name ______________________SBB4: #REF!
Name ______________________SBB5: #REF!
Name ______________________SBB5: #REF!
Name ______________________SBB5: #REF!
Name ______________________SBB5: #REF!
Name ______________________SHH1: #REF!

Sheet 집수정구조도(800)
A1: 구조도 및 수량산출서
AA2: 설계조건
A3: ▣ 집수정 | D3: ="집수정"&" Ø"&FIXED(AE9*1000,0)&"m/m" -> 집수정 Ø800m/m | X3: 개소당 | AA3: 내부벽체치수 | AD3: 외부벽체치수
B4: 공 종 | D4: 산 출 근 거 | X4: 단위 | Y4: 수 량 | AA4: 가로 | AB4: 3 | AC4: =AB4*1000 -> 3000 | AD4: =AB4+2*AB9 -> 3.4 | AE4: =AD4*1000 -> 3400
AA5: 세로 | AB5: 1 | AC5: =AB5*1000 -> 1000 | AD5: =AB5+(AB9*2) -> 1.4 | AE5: =AD5*1000 -> 1400
AA6: 높이 | AB6: 1.2 | AD6: =AB6 -> 1.2
AA8: 벽치수 | AD8: 관치수
AA9: 두께 | AB9: 0.2 | AD9: 직경 | AE9: 0.8
AD10: 반지름 | AE10: =AE9/2 -> 0.4
AA13: 바닥기초치수 | AD13: 방수로
AA14: 가로 | AB14: =AD4 -> 3.4 | AD14: 개소 | AE14: 3
AA15: 세로 | AB15: =AD5 -> 1.4 | AD15: 상장 | AE15: 1
AA16: 두께 | AB16: 0.2 | AD16: 하장 | AE16: 0.4
AD17: 고 | AE17: 0.3
A21: 1. | B21: 터파기 | D21: ( | E21: =AD4 -> 3.4 | G21: + | H21: 0.4 | J21: )× | K21: 2 | L21: × | M21: =AD6+AB16 -> 1.4 | X21: M3 | Y21: =(E21+H21)*K21*M21 -> 10.64
A22: 2. | B22: 되메우기 | E22: =Y21 -> 10.64 | G22: - ( | H22: =AB4 -> 3 | J22: × | K22: =AB5 -> 1 | L22: × | M22: =M21 -> 1.4 | N22: ) | X22: M3 | Y22: =E22-(H22*K22*M22) -> 6.44
A23: 3. | B23: 잔 토 처 리 | E23: =Y21 -> 10.64 | G23: - | H23: =Y22 -> 6.44 | X23: M3 | Y23: =Y21-Y22 -> 4.2
A24: 4. | B24: 콘크리트 | E24: 외부벽체 | F24: - | G24: 내부벽체 | H24: - | I24: 방수로 | J24: - | K24: 관치수 | L24: + | M24: 바닥기초
E25: =AD4*AD5*AD6 -> 5.712 | F25: - | G25: =AB4*AB5*AB6 -> 3.6 | H25: - | I25: =AE14*((AE15+AE16)/2*AE17)*AB9 -> 0.126 | J25: - | K25: =3.14*AE10^2*AB9 -> 0.10048 | L25: + | M25: =AB14*AB15*AB16 -> 0.952 | X25: M3 | Y25: =E25-G25-I25-K25+M25 -> 2.83752
A26: 5. | B26: 이형철근(D13) | D26: ( | E26: 3.4 | F26: + | G26: 2.6 | H26: + | I26: =AD5-2*AB9 -> 1 | J26: x | K26: 2 | L26: ) ÷ | M26: 0.5 | N26: x | O26: 0.3 | P26: x | Q26: 0.995 | R26: kg/m | X26: kg | Y26: =(E26+G26+I26*K26)/M26*O26*Q26 -> 4.776
X27: ton | Y27: =Y26/1000 -> 0.004776
A28: 6. | B28: 면 목(A25) | E28: =AD4 -> 3.4 | F28: + | G28: =AB4*2 -> 6 | H28: + | I28: =SQRT(((AE15-AE16)/2)^2+(AE17)^2)*3 -> 1.2727922 | J28: + | K28: =AE16*3 -> 1.2 | L28: + | M28: =AB9*4 -> 0.8 | X28: M | Y28: =E28+G28+I28+K28+M28 -> 12.672792
A29: 7. | B29: 거푸집 | E29: 외부벽체1+외부벽체2+외부벽체3+외부벽체4+내부벽체1+내부벽체2+내부벽체3+내부벽체4+바닥기초+방수로비탈면
E30: =AD4*AD6-3.14*AE10^2 -> 3.5776 | F30: + | G30: =AD4*AD6-((AE15+AE16)/2*AE17) -> 3.87 | H30: + | I30: =AD5*AD6-((AE15+AE16)/2*AE17) -> 1.47 | J30: + | K30: =I30 -> 1.47 | L30: + | M30: =AB4*AB6-3.14*AE10^2 -> 3.0976 | N30: + | O30: =AB4*AB6-((AE15+AE16)/2*AE17) -> 3.39 | P30: + | Q30: =AB5*AB6-((AE15+AE16)/2*AE17) -> 0.99 | R30: + | S30: =Q30 -> 0.99 | T30: + | U30: =(AB14+AB15)*AB16*2 -> 1.92 | V30: + | W30: =SQRT(((AE15-AE16)/2)^2+(AE17)^2)*AB9*(AE14*2) -> 0.50911688 | X30: M3 | Y30: =E30+G30+I30+K30+M30+O30+Q30+S30+U30+W30 -> 21.284317

Sheet 측구수로400
A1: □측구수로 터파기 계산서
AF2: M당
A3: 공종 | B3: 규격 | C3: 산 출 내 역 | AE3: 8-7
S5: =R27+AE16*0.6 -> 1196
A6: 측 구 | B6: 400A
A7: 수 로 | F7: 스틸그레이팅뚜껑 | S7: 400 | X7: 80
S15: =S7 -> 400 | Z15: 1:0.3
AE16: =400+60+50 -> 510
S23: 490
R27: =S23+400 -> 890
A31: 1.터파기 | F31: ( | G31: =R27/1000 -> 0.89 | I31: + | J31: =S5/1000 -> 1.196 | L31: ) | M31: ÷ | N31: 2 | O31: × | P31: =AE16/1000 -> 0.51 | R31: × | S31: 1 | AD31: = | AE31: =ROUNDDOWN((G31+J31/2)*P31,2) -> 0.75 | AF31: ㎥
A32: 2.잔토처리 | E32: ( | F32: ( | G32: =S23/1000 -> 0.49 | I32: + | J32: ( | K32: =S7/1000 -> 0.4 | M32: + | N32: =X7*2/1000 -> 0.16 | P32: ) | Q32: ) | R32: ÷ | S32: 2 | T32: × | U32: =P31 -> 0.51 | W32: × | X32: 1 | AD32: = | AE32: =ROUNDDOWN((G32+(N32+K32))/S32*U32,2) -> 0.26 | AF32: ㎥
A33: 3.되메우기 | G33: 1식 | J33: - | L33: 2식 | AD33: = | AE33: =AE31-AE32 -> 0.49 | AF33: ㎥

Sheet 돌수로공(제형B=0.75)
B2: =CONCATENATE("제형 돌수로 (B=",FIXED(W26,2),") 수량산출서") -> 제형 돌수로 (B=0.75) 수량산출서
G9: =W29 -> 0.45 | J9: =J19+(P14*0.5*2) -> 1.25 | M9: =G9 -> 0.45
P11: 0.2
O14: 수로깊이 | P14: =W27 -> 0.5 | Y14: =1.25+0.9 -> 2.15
O17: 돌뒷길이 | P17: =W29 -> 0.45
J19: =W26 -> 0.75
J21: =J19+W29*2 -> 1.65
C25: 수 량 산 출 및 재 료 표 ( m 당 ) | V25: *설계조건
C26: 구 분 | D26: 규 격 | E26: 산 출 기 초 | Q26: 수 량 | R26: 단위 | S26: 비 고 | V26: 수로폭 | W26: 0.75
C27: 돌 쌓 기 | D27: * 측 면 | E27: =P14 -> 0.5 | F27: × | G27: =ROUND(SQRT(1+W28^2),3) -> 1.118 | H27: × | I27: 2 | J27: × | K27: 1 | Q27: =ROUND(E27*G27*I27*K27,2) -> 1.12 | R27: ㎡ | V27: 수로깊이 | W27: 0.5
C28: 돌 붙 임 | D28: * 바 닥 | E28: =J19 -> 0.75 | F28: × | G28: =K27 -> 1 | Q28: =ROUND(E28*G28,2) -> 0.75 | R28: ㎡ | V28: 비 탈 | W28: 0.5
C29: 야 면 석 | D29: =IF(W29=0.3,"ℓ3=30cm(20*20)",IF(W29=0.35,"ℓ3=35cm",IF(W29=0.45,"ℓ3=45cm",IF(W29=0.55,"ℓ3=55cm")))) -> ℓ3=45cm | E29: =Q27+Q28 -> 1.87 | F29: × | G29: =IF(W29=0.3,0.42,IF(W29=0.35,0.575,IF(W29=0.45,0.88,IF(W29=0.55,1.1)))) -> 0.88 | H29: ton/㎡ | Q29: =ROUND(E29*G29,2) -> 1.65 | R29: ton | V29: 돌뒷길이 | W29: 0.45
C30: 고 임 돌 | E30: =+Q27+Q28 -> 1.87 | F30: × | G30: =IF(W29=0.3,0.09,IF(W29=0.35,0.09,IF(W29=0.45,0.15,IF(W29=0.55,0.14)))) -> 0.15 | H30: ㎥/㎡ | Q30: =INT(E30*G30*100)/100 -> 0.28 | R30: ㎥
C31: 채움 con.c | D31: 중량배합 | E31: =E30 -> 1.87 | F31: × | G31: 0.2 | H31: ㎥/㎡ | Q31: =INT(E31*G31*100)/100 -> 0.37 | R31: ㎥
C32: 모르터 | E32: =Q27+Q28 -> 1.87 | F32: × | G32: 0.009 | H32: ㎥/㎡ | Q32: =INT(E32*G32*100)/100 -> 0.01 | R32: ㎥
C33: P V C 관 | D33: Φ50mm/m | E33: =Q27 -> 1.12 | F33: × | G33: 0.5 | H33: × | I33: =ROUNDUP(W29,1) -> 0.5 | Q33: =E33*G33*I33 -> 0.28 | R33: m
C34: 바닥파기 | E34: =J9+M9+G9 -> 2.15 | F34: ＋ | G34: =J21 -> 1.65 | H34: ÷ | I34: 2 | J34: × | K34: =P14+P17 -> 0.95 | L34: × | M34: 1 | Q34: =ROUND((E34+G34)/2*K34*M34,2) -> 1.81 | R34: ㎥
C35: 잔 토 | Q35: =Q34 -> 1.81 | R35: ㎥

Sheet 돌기슭막이(45)찰-고1.0
F1: 돌 기슭막이 | J1: =C5 -> 1 | N1: 수량산출서
C3: ℓ3 = | D3: 45 | F3: 파쇄석 -찰쌓기
L4: 300
C5: 1
I8: 파쇄석 | M8: 뒷채움돌
G9: =C5 -> 1
I11: 1: | J11: 0.3 | M11: 고임돌
M13: 채움콘크리트
J16: =D3*10 -> 450 | L16: =G9*1000*J11 -> 300
U18: m당
A19: 공종 | D19: 산 출 근 거 | U19: 수량
A20: 1 | B20: 면적 | H20: =G9 -> 1 | I20: × | J20: 1 | L20: × | M20: 1.044 | T20: ＝ | U20: =H20*J20*M20 -> 1.044 | V20: ㎡
B21: 중량 | H21: =U20 -> 1.044 | I21: × | J21: 0.91 | L21: ton/㎡ | T21: =T20 -> ＝ | U21: =U20*J21 -> 0.95004 | V21: ton
A22: 2 | B22: 체적 | G22: (( | H22: =(J16+L4)/1000 -> 0.75 | I22: + | J22: =(J16+L16)/1000 -> 0.75 | K22: ) ÷ | L22: 2 | M22: × | N22: =U20 -> 1.044 | T22: ＝ | U22: =(H22+J22)/L22*N22 -> 0.783 | V22: ㎥
A23: 3 | B23: 고임돌 | H23: =U20 -> 1.044 | I23: × | J23: =IF(D3=35,0.12,IF(D3=45,0.15,IF(D3=55,0.18,"확인"))) -> 0.15 | K23: ㎥/㎡ | T23: ＝ | U23: =INT((H23*J23)*100)/100 -> 0.15 | V23: ㎥
A24: 4 | B24: 석적 | H24: =H20 -> 1 | I24: × | K24: =D3/100 -> 0.45 | M24: × | N24: 0.77 | T24: ＝ | U24: =H24*K24*N24 -> 0.3465 | V24: ㎥
A25: 5 | B25: 막자갈(뒷채움) : | G25: (( | H25: =L4/1000 -> 0.3 | I25: + | J25: =L16/1000 -> 0.3 | K25: ) ÷ | L25: 2 | M25: × | N25: =G9 -> 1 | T25: ＝ | U25: =(H25+J25)/L25*N25 -> 0.3 | V25: ㎥
A26: 6 | B26: 채움콘크리트 | H26: =H23 -> 1.044 | I26: × | J26: =IF(D3=35,0.16,IF(D3=45,0.2,IF(D3=55,0.25,"확인"))) -> 0.2 | K26: ㎥/㎡ | T26: ＝ | U26: =INT((H26*J26)*100)/100 -> 0.2 | V26: ㎥
A27: 7 | B27: 모르터 | H27: =H26 -> 1.044 | I27: × | J27: 0.009 | K27: ㎥/㎡ | T27: ＝ | U27: =((H27*J27)) -> 0.009396 | V27: ㎥
A28: 8 | B28: 물구멍(PVC) | H28: =H27 -> 1.044 | I28: × | J28: 1 | K28: ea/2.5㎡ | M28: =M25 -> × | N28: 0.5 | O28: m/㎡ | T28: ＝ | U28: =H28*J28/2.5*N28 -> 0.2088 | V28: ㎥
A29: 9 | B29: 터파기 : | H29: =(L16+J16)/1000+0.2 -> 0.95 | J29: × | L29: 0.3 | M29: × | N29: 1 | T29: ＝ | U29: =ROUND(H29*L29*N29,2) -> 0.29 | V29: ㎥
A30: 10 | B30: 되메우기 : | E30: ( ( | F30: 0.2 | G30: × | H30: 0.3 | I30: ) | J30: + | K30: ( | L30: =L4/1000+0.2 -> 0.5 | M30: × | N30: =L30 -> 0.5 | O30: ÷ | P30: 2 | Q30: ) | R30: ) × | S30: 1 | T30: ＝ | U30: =(F30*H30+L30*N30/P30)*S30 -> 0.185 | V30: ㎥
A31: 11 | B31: 잔토정리 : | F31: 터파기 | J31: - | L31: 되메우기 | T31: ＝ | U31: =U29-U30 -> 0.105 | V31: ㎥

Sheet 고0.5-돌조공
D1: 돌조공 | J1: =C5 -> 0.5 | N1: 수량산출서
C3: ℓ3 = | D3: 45 | F3: 깬돌 -메쌓기
L4: 0.1
C5: =E10 -> 0.5
I8: 깬 돌 | M8: 뒷채움돌
G9: 0.4
E10: =G9+H14 -> 0.5
I11: 1: | J11: 0.3 | M11: 고임돌
H14: 0.1
J16: =D3*0.01 -> 0.45 | L16: 0.2
U18: m당
A19: 공종 | D19: 산 출 근 거 | U19: 수량
A20: 1 | B20: 면적 | H20: =G9+H14 -> 0.5 | I20: × | J20: 1 | L20: × | M20: =ROUND(SQRT(1+J11^2),3) -> 1.044 | T20: ＝ | U20: =H20*J20*M20 -> 0.522 | V20: ㎡
B21: 중량 | H21: =U20 -> 0.522 | I21: × | J21: 0.91 | L21: ton/㎡ | T21: =T20 -> ＝ | U21: =U20*J21 -> 0.47502 | V21: ton
A22: 2 | B22: 체적 | G22: (( | H22: =(J16+L4) -> 0.55 | I22: + | J22: =(J16+L16) -> 0.65 | K22: ) ÷ | L22: 2 | M22: × | N22: =U20 -> 0.522 | T22: ＝ | U22: =(H22+J22)/L22*N22 -> 0.3132 | V22: ㎥
A23: 3 | B23: 고임돌 | H23: =U20 -> 0.522 | I23: × | J23: =IF(D3=35,0.12,IF(D3=45,0.15,IF(D3=55,0.18,"확인"))) -> 0.15 | K23: ㎥/㎡ | T23: ＝ | U23: =INT((H23*J23)*100)/100 -> 0.07 | V23: ㎥
A24: 4 | B24: 석적 | H24: =H20 -> 0.5 | I24: × | K24: =D3/100 -> 0.45 | M24: × | N24: 0.77 | T24: ＝ | U24: =H24*K24*N24 -> 0.17325 | V24: ㎥
A25: 5 | B25: 막자갈(뒷채움) : | G25: (( | H25: =L4 -> 0.1 | I25: + | J25: =L16 -> 0.2 | K25: ) ÷ | L25: 2 | M25: × | N25: =E10 -> 0.5 | T25: ＝ | U25: =(H25+J25)/L25*N25 -> 0.075 | V25: ㎥
A26: 6 | B26: 터파기 : | H26: =(L16+J16)+0.2 -> 0.85 | J26: × | L26: 0.3 | M26: × | N26: 1 | T26: ＝ | U26: =ROUND(H26*L26*N26,2) -> 0.26 | V26: ㎥
A27: 7 | B27: 되메우기 : | E27: ( ( | F27: 0.2 | G27: × | H27: 0.3 | I27: ) | J27: + | K27: ( | L27: =L4+0.2 -> 0.3 | M27: × | N27: =L27 -> 0.3 | O27: ÷ | P27: 2 | Q27: ) | R27: ) × | S27: 1 | T27: ＝ | U27: =(F27*H27+L27*N27/P27)*S27 -> 0.105 | V27: ㎥
A28: 8 | B28: 잔토정리 : | F28: 터파기 | J28: - | L28: 되메우기 | T28: ＝ | U28: =U26-U27 -> 0.155 | V28: ㎥

Sheet 종단규준틀
A1: 수량산출 및 재료표 ( 개소당 )
A2: 0 규준틀 구조도 (종단 토공용)
A17: 구분 | B17: 규격 | C17: 산출기초 | D17: 수량 | E17: 단위 | F17: 비고
A18: 각재 | B18: 50mm × 50mm | C18: 0.05 × 0.05 × 1.55 ＋ 0.05 × 0.05 × 0.20 | D18: =0.05*0.05*1.55+0.05*0.05*0.2 -> 0.004375 | E18: m3
A19: 판재 | B19: t = 12mm | C19: ( 0.50 ＋ 0.70 ) × 0.5 × 0.20 × 0.012 × 2 | D19: =(0.5+0.7)*0.5*0.2*0.012*2 -> 0.00288 | E19: =E18 -> m3
A20: 못 | D20: 0.03 | E20: kg

Sheet 횡단규준틀
A1: 수량산출 및 재료표 ( 개소당 )
A2: 0 규준틀 구조도 (횡단 토공용)
A17: 구분 | B17: 규격 | C17: 산출기초 | D17: 수량 | E17: 단위 | F17: 비고
A18: 각재 | B18: 50mm × 50mm | C18: 0.05 × 0.05 × 1.1 ＋ 0.05 × 0.05 × 0.9 | D18: =0.05*0.05*1.1+0.05*0.05*0.9 -> 0.005 | E18: m3
A19: 판재 | B19: t = 12mm | C19: (( 1.50 ＋ 1.70 ) × 0.5 × 0.20 × 0.012) × 2 | D19: =((1.5+1.7)*0.5*0.2*0.012)*2 -> 0.00768 | E19: =E18 -> m3
A20: 못 | D20: 0.03 | E20: kg

Sheet 씨(줄)뿌리기(35기준)
A1: 수량산출 및 재료표 ( m당 )
A2: 0 씨(줄)뿌리기 구조도
E3: 보통토사 | F3: 0.3
B4: 사면경사 35˚ 기준 | E4: 고사자갈 | F4: 0.4
E5: 호박돌 | F5: 0.3
C6: 단절고(114)
B7: 단폭(200) | C7: 복토 | D7: 20
C8: 비토 | D8: 30
C9: 객토 | D9: 50
A13: 구분 | B13: 규격 | C13: 산출기초 | D13: 수량 | E13: 단위 | F13: 비고
A14: 종자 | D14: 0.002 | E14: kg
A15: 비료 | B15: 요소 | C15: 1.0/m당 × 4.0g | D15: 0.004 | E15: kg
B16: 인산질 | C16: 1.0/m당 × 25.3g | D16: 0.0253 | E16: kg
A17: 객토 | C17: 1.0 × 0.1 × 0.05 × (0.4÷3 + 0.3÷2) | D17: =0.1*0.05*(0.4/3+0.3/2) -> 0.0014166667 | E17: m3
A18: 비토(부엽토) | C18: 1.0 × 0.1 × 0.03 | D18: =0.1*0.03 -> 0.003 | E18: m3
A19: 복토 | C19: 1.0 × 0.1 × 0.02 | D19: =0.1*0.02 -> 0.002 | E19: m3
A20: 골파기 | C20: 1.0 × 0.1 × 0.1 × 80% | D20: =0.1*0.1*0.8 -> 0.008 | E20: m3
A21: 단끊기 | B21: 35˚기준 | C21: 0.2 × 0.2 × tan35 ÷ 2 × 20% | D21: 0.0023 | E21: m3

Sheet Φ800
A1: □배수관 터파기 계산서
A3: 공종 | B3: 규격 | H3: 산 출 내 역 | W3: M당
K5: =K22+R15*0.5*2 -> 3300
A6: 관 매설 | B6: 800
K7: =K22+D16*0.5*2 -> 2800
D13: 500
N15: 1:0.5 | R15: =D13+D16 -> 1900
D16: =K20+600 -> 1400
K20: =B6 -> 800
K22: =K20+600 -> 1400
A26: 1.터파기 | C26: { ( | D26: =K22/1000 -> 1.4 | E26: + | F26: =K5/1000 -> 3.3 | G26: ) | H26: ÷ | I26: 2 | J26: ｝ | K26: × | L26: =R15/1000 -> 1.9 | N26: × | O26: 1 | U26: = | V26: =ROUNDDOWN((D26+F26)/2*L26,2) -> 4.46 | W26: ㎥
A27: 2.되메우기 | C27: ［ { ( | D27: =D26 -> 1.4 | E27: + | F27: =F26 -> 3.3 | G27: ) | H27: ÷ | I27: 2 | J27: × | K27: =R15/1000 -> 1.9 | L27: } - { | M27: 3.14 | N27: × | O27: =K20/2000 -> 0.4 | P27: ²} | Q27: ] | R27: × | S27: 1 | U27: = | V27: =ROUNDDOWN(((D27+F27)/2*K27-(3.14*O27*O27))*1,2) -> 3.96 | W27: ㎥
A28: 3.잔 토 | D28: 1식 | E28: - | F28: 2식 | U28: = | V28: =V26-V27 -> 0.5 | W28: ㎥

Sheet 포장
A1: 공종 | B1: 규격 | G1: 산 출 내 역
A3: 콘크리트
A4: 포장 | B4: T = 0.2m
A6: m2당 | G6: VAR
H9: con'c | N9: 20cm
A16: 레미콘 | B16: 25-21-80 | D16: 0.2 | E16: × | F16: 1 | G16: =E16 -> × | H16: 1 | J16: = | K16: =D16*F16*H16 -> 0.2 | L16: ㎥
A17: 와이어매쉬 | B17: ＃6 100 ×100 | D17: 1 | E17: × | F17: 1 | J17: = | K17: =D17*F17 -> 1 | L17: ㎡
A18: 비닐 | D18: 1 | E18: × | F18: 1 | G18: =E18 -> × | H18: 2 | J18: = | K18: 2 | L18: ㎡
A19: 터파기 | D19: 1 | E19: × | F19: 0.2 | J19: = | K19: =D19*F19 -> 0.2 | L19: ㎥
A20: 잔토 | J20: = | K20: =K19 -> 0.2 | L20: ㎥

Sheet 포장거푸집
A1: 구조도 및 수량산출서
A3: ▣ 포장 거푸집 | D3: T=20cm | S3: m당
B4: 공 종 | D4: 산 출 근 거 | S4: 단위 | T4: 수 량
N7: 200
D10: 노면
C11: con'c | S11: 200
A18: 1. | B18: 터파기 | E18: 0.2 | G18: × | H18: =(S11)/1000 -> 0.2 | J18: × | K18: 2 | N18: × | O18: 1 | S18: M3 | T18: =ROUNDDOWN(E18*H18,2) -> 0.04
A20: 2. | B20: 되메우기 | S20: M3 | T20: =T18 -> 0.04
A22: 3. | B22: 유로폼 | E22: 0.2 | G22: × | H22: 2 | J22: × | K22: 1 | S22: M2 | T22: =ROUNDDOWN(E22*H22,2) -> 0.4
A24: 4. | B24: 면목 | E24: 1 | G24: × | H24: 2 | S24: M | T24: =ROUNDDOWN(E24*H24,2) -> 2

Sheet 미적용-------->

Sheet 돌기슭막이(45)찰-고1.5
F1: 돌 기슭막이 | J1: =C5 -> 1.5 | N1: 수량산출서
C3: ℓ3 = | D3: 35 | F3: 파쇄석 -찰쌓기
L4: 300
C5: 1.5
I8: 파쇄석 | M8: 뒷채움돌
G9: =C5 -> 1.5
I11: 1: | J11: 0.3 | M11: 고임돌
M13: 채움콘크리트
J16: =D3*10 -> 350 | L16: =G9*1000*J11 -> 450
U18: m당
A19: 공종 | D19: 산 출 근 거 | U19: 수량
A20: 1 | B20: 면적 | H20: =G9 -> 1.5 | I20: × | J20: 1 | L20: × | M20: 1.044 | T20: ＝ | U20: =H20*J20*M20 -> 1.566 | V20: ㎡
B21: 중량 | H21: =U20 -> 1.566 | I21: × | J21: 0.91 | L21: ton/㎡ | T21: =T20 -> ＝ | U21: =U20*J21 -> 1.42506 | V21: ton
A22: 2 | B22: 체적 | G22: (( | H22: =(J16+L4)/1000 -> 0.65 | I22: + | J22: =(J16+L16)/1000 -> 0.8 | K22: ) ÷ | L22: 2 | M22: × | N22: =U20 -> 1.566 | T22: ＝ | U22: =(H22+J22)/L22*N22 -> 1.13535 | V22: ㎥
A23: 3 | B23: 고임돌 | H23: =U20 -> 1.566 | I23: × | J23: =IF(D3=35,0.12,IF(D3=45,0.15,IF(D3=55,0.18,"확인"))) -> 0.12 | K23: ㎥/㎡ | T23: ＝ | U23: =INT((H23*J23)*100)/100 -> 0.18 | V23: ㎥
A24: 4 | B24: 석적 | H24: =H20 -> 1.5 | I24: × | K24: =D3/100 -> 0.35 | M24: × | N24: 0.77 | T24: ＝ | U24: =H24*K24*N24 -> 0.40425 | V24: ㎥
A25: 5 | B25: 막자갈(뒷채움) : | G25: (( | H25: =L4/1000 -> 0.3 | I25: + | J25: =L16/1000 -> 0.45 | K25: ) ÷ | L25: 2 | M25: × | N25: =G9 -> 1.5 | T25: ＝ | U25: =(H25+J25)/L25*N25 -> 0.5625 | V25: ㎥
A26: 6 | B26: 채움콘크리트 | H26: =H23 -> 1.566 | I26: × | J26: =IF(D3=35,0.16,IF(D3=45,0.2,IF(D3=55,0.25,"확인"))) -> 0.16 | K26: ㎥/㎡ | T26: ＝ | U26: =INT((H26*J26)*100)/100 -> 0.25 | V26: ㎥
A27: 7 | B27: 모르터 | H27: =H26 -> 1.566 | I27: × | J27: 0.009 | K27: ㎥/㎡ | T27: ＝ | U27: =((H27*J27)) -> 0.014094 | V27: ㎥
A28: 8 | B28: 물구멍(PVC) | H28: =H27 -> 1.566 | I28: × | J28: 1 | K28: ea/2.5㎡ | M28: =M25 -> × | N28: 0.5 | O28: m/㎡ | T28: ＝ | U28: =H28*J28/2.5*N28 -> 0.3132 | V28: ㎥
A29: 9 | B29: 터파기 : | H29: =(L16+J16)/1000+0.2 -> 1 | J29: × | L29: 0.3 | M29: × | N29: 1 | T29: ＝ | U29: =ROUND(H29*L29*N29,2) -> 0.3 | V29: ㎥
A30: 10 | B30: 되메우기 : | E30: ( ( | F30: 0.2 | G30: × | H30: 0.3 | I30: ) | J30: + | K30: ( | L30: =L4/1000+0.2 -> 0.5 | M30: × | N30: =L30 -> 0.5 | O30: ÷ | P30: 2 | Q30: ) | R30: ) × | S30: 1 | T30: ＝ | U30: =(F30*H30+L30*N30/P30)*S30 -> 0.185 | V30: ㎥
A31: 11 | B31: 잔토정리 : | F31: 터파기 | J31: - | L31: 되메우기 | T31: ＝ | U31: =U29-U30 -> 0.115 | V31: ㎥

Sheet 고2.0-돌기슭(45)메
D1: 돌기슭막이 | J1: =C5 -> 2 | N1: 수량산출서
C3: ℓ3 = | D3: 45 | F3: 파쇄석 -메쌓기
L4: 0.3
C5: =E10 -> 2
I8: 파쇄석 | M8: 뒷채움돌
G9: 1.7
E10: =G9+H14 -> 2
I11: 1: | J11: 0.3 | M11: 고임돌
H14: 0.3
J16: =D3*0.01 -> 0.45 | L16: 0.6
U18: m당
A19: 공종 | D19: 산 출 근 거 | U19: 수량
A20: 1 | B20: 면적 | H20: =G9+H14 -> 2 | I20: × | J20: 1 | L20: × | M20: =ROUND(SQRT(1+J11^2),3) -> 1.044 | T20: ＝ | U20: =H20*J20*M20 -> 2.088 | V20: ㎡
B21: 중량 | H21: =U20 -> 2.088 | I21: × | J21: 0.91 | L21: ton/㎡ | T21: =T20 -> ＝ | U21: =U20*J21 -> 1.90008 | V21: ton
A22: 2 | B22: 체적 | G22: (( | H22: =(J16+L4) -> 0.75 | I22: + | J22: =(J16+L16) -> 1.05 | K22: ) ÷ | L22: 2 | M22: × | N22: =U20 -> 2.088 | T22: ＝ | U22: =(H22+J22)/L22*N22 -> 1.8792 | V22: ㎥
A23: 3 | B23: 고임돌 | H23: =U20 -> 2.088 | I23: × | J23: =IF(D3=35,0.12,IF(D3=45,0.15,IF(D3=55,0.18,"확인"))) -> 0.15 | K23: ㎥/㎡ | T23: ＝ | U23: =INT((H23*J23)*100)/100 -> 0.31 | V23: ㎥
A24: 4 | B24: 석적 | H24: =H20 -> 2 | I24: × | K24: =D3/100 -> 0.45 | M24: × | N24: 0.77 | T24: ＝ | U24: =H24*K24*N24 -> 0.693 | V24: ㎥
A26: 5 | B26: 막자갈(뒷채움) : | G26: (( | H26: =L4 -> 0.3 | I26: + | J26: =L16 -> 0.6 | K26: ) ÷ | L26: 2 | M26: × | N26: =E10 -> 2 | T26: ＝ | U26: =(H26+J26)/L26*N26 -> 0.9 | V26: ㎥
A27: 6 | B27: 터파기 : | H27: =(L16+J16)+0.2 -> 1.25 | J27: × | L27: 0.3 | M27: × | N27: 1 | T27: ＝ | U27: =ROUND(H27*L27*N27,2) -> 0.38 | V27: ㎥
A28: 7 | B28: 되메우기 : | E28: ( ( | F28: 0.2 | G28: × | H28: 0.3 | I28: ) | J28: + | K28: ( | L28: =L4+0.2 -> 0.5 | M28: × | N28: =L28 -> 0.5 | O28: ÷ | P28: 2 | Q28: ) | R28: ) × | S28: 1 | T28: ＝ | U28: =(F28*H28+L28*N28/P28)*S28 -> 0.185 | V28: ㎥
A29: 8 | B29: 잔토정리 : | F29: 터파기 | J29: - | L29: 되메우기 | T29: ＝ | U29: =U27-U28 -> 0.195 | V29: ㎥

Sheet 개거(150-200) (2)
A1: 구조도 및 수량산출서
A3: ▣ 콘크리트 개거 | D3: 150 × 200 | S3: m당
B20: 공 종 | D20: 산 출 근 거 | S20: 단위 | T20: 수 량
A21: 1. | B21: 터파기 | E21: 0.3 | G21: × | H21: 0.1 | J21: × | K21: 1 | S21: M3 | T21: =ROUNDDOWN(E21*H21,2) -> 0.03
A22: 2. | B22: 유로폼 | D22: ( | E22: 0.2 | G22: + | H22: 0.2 | J22: + | K22: 0.15 | M22: ) | N22: × | O22: 1 | S22: M2 | T22: =(E22+H22+K22)*O22 -> 0.55
A23: 3. | B23: 면목 | E23: 2 | G23: × | H23: 1 | S23: m | T23: 2

Sheet 돌기슭막이(45)찰-고2.0
F1: 돌 기슭막이 | J1: =C5 -> 2 | N1: 수량산출서
C3: ℓ3 = | D3: 35 | F3: 파쇄석 -찰쌓기
L4: 300
C5: 2
I8: 파쇄석 | M8: 뒷채움돌
G9: =C5 -> 2
I11: 1: | J11: 0.3 | M11: 고임돌
M13: 채움콘크리트
J16: =D3*10 -> 350 | L16: =G9*1000*J11 -> 600
U18: m당
A19: 공종 | D19: 산 출 근 거 | U19: 수량
A20: 1 | B20: 면적 | H20: =G9 -> 2 | I20: × | J20: 1 | L20: × | M20: 1.044 | T20: ＝ | U20: =H20*J20*M20 -> 2.088 | V20: ㎡
B21: 중량 | H21: =U20 -> 2.088 | I21: × | J21: 0.91 | L21: ton/㎡ | T21: =T20 -> ＝ | U21: =U20*J21 -> 1.90008 | V21: ton
A22: 2 | B22: 체적 | G22: (( | H22: =(J16+L4)/1000 -> 0.65 | I22: + | J22: =(J16+L16)/1000 -> 0.95 | K22: ) ÷ | L22: 2 | M22: × | N22: =U20 -> 2.088 | T22: ＝ | U22: =(H22+J22)/L22*N22 -> 1.6704 | V22: ㎥
A23: 3 | B23: 고임돌 | H23: =U20 -> 2.088 | I23: × | J23: =IF(D3=35,0.12,IF(D3=45,0.15,IF(D3=55,0.18,"확인"))) -> 0.12 | K23: ㎥/㎡ | T23: ＝ | U23: =INT((H23*J23)*100)/100 -> 0.25 | V23: ㎥
A24: 4 | B24: 석적 | H24: =H20 -> 2 | I24: × | K24: =D3/100 -> 0.35 | M24: × | N24: 0.77 | T24: ＝ | U24: =H24*K24*N24 -> 0.539 | V24: ㎥
A25: 5 | B25: 막자갈(뒷채움) : | G25: (( | H25: =L4/1000 -> 0.3 | I25: + | J25: =L16/1000 -> 0.6 | K25: ) ÷ | L25: 2 | M25: × | N25: =G9 -> 2 | T25: ＝ | U25: =(H25+J25)/L25*N25 -> 0.9 | V25: ㎥
A26: 6 | B26: 채움콘크리트 | H26: =H23 -> 2.088 | I26: × | J26: =IF(D3=35,0.16,IF(D3=45,0.2,IF(D3=55,0.25,"확인"))) -> 0.16 | K26: ㎥/㎡ | T26: ＝ | U26: =INT((H26*J26)*100)/100 -> 0.33 | V26: ㎥
A27: 7 | B27: 모르터 | H27: =H26 -> 2.088 | I27: × | J27: 0.009 | K27: ㎥/㎡ | T27: ＝ | U27: =((H27*J27)) -> 0.018792 | V27: ㎥
A28: 8 | B28: 물구멍(PVC) | H28: =H27 -> 2.088 | I28: × | J28: 1 | K28: ea/2.5㎡ | M28: =M25 -> × | N28: 0.5 | O28: m/㎡ | T28: ＝ | U28: =H28*J28/2.5*N28 -> 0.4176 | V28: ㎥
A29: 9 | B29: 터파기 : | H29: =(L16+J16)/1000+0.2 -> 1.15 | J29: × | L29: 0.3 | M29: × | N29: 1 | T29: ＝ | U29: =ROUND(H29*L29*N29,2) -> 0.35 | V29: ㎥
A30: 10 | B30: 되메우기 : | E30: ( ( | F30: 0.2 | G30: × | H30: 0.3 | I30: ) | J30: + | K30: ( | L30: =L4/1000+0.2 -> 0.5 | M30: × | N30: =L30 -> 0.5 | O30: ÷ | P30: 2 | Q30: ) | R30: ) × | S30: 1 | T30: ＝ | U30: =(F30*H30+L30*N30/P30)*S30 -> 0.185 | V30: ㎥
A31: 11 | B31: 잔토정리 : | F31: 터파기 | J31: - | L31: 되메우기 | T31: ＝ | U31: =U29-U30 -> 0.165 | V31: ㎥

Sheet 기슭막이(H=1.5)
B2: ○ 돌기슭막이(기초H=0.5m) 구조도 및 계산표 | AB2: H=1.50m
D4: - 정 면 도 | R4: - 단 면 도 | X4: =U5+AC11*0.1 -> 0.5
S5: L= | U5: 0.35
T8: 1: | U8: 0.3
T9: 돌쌓기
Z10: con.c뒤채움
T11: =ROUND(SQRT(1+U8^2)*AC11,2) -> 1.57 | AC11: 1.5 | AD11: =AC11+AC16 -> 2
AA12: 고임돌
R13: 기초콘크리트
AA14: 막자갈
S16: 0.5 | W16: 0.35 | AC16: 0.5
G18: 1 | U18: 0.2 | V18: 0.5
U19: 0.3 | AC19: ※막자갈 산출시 고입돌, 채움콘크리트 제외
W20: =U5+AC11*0.4 -> 0.95
B21: 수 량 산 출 및 재 료 표 ( m 당 )
B22: 구 분 | C22: 규 격 | E22: 산 출 기 초 | O22: 수 량 | P22: 단위 | Q22: 구 분 | S22: 규 격 | T22: 산 출 기 초 | AE22: 수 량 | AF22: 단위
B23: 정 면 적 | E23: =G18 -> 1 | F23: × | G23: =AC11 -> 1.5 | O23: =ROUND(E23*G23,2) -> 1.5 | P23: ㎡ | Q23: 콘크리트 | R23: 기 초 | S23: 레미콘 | U23: 0.50×0.70－0.50×0.15×0.50 | AB23: = | AC23: =(0.5*0.7)-(0.5*0.15*0.5) -> 0.3125 | AE23: =AC23+AC24 -> 0.6125 | AF23: ㎥
B24: 비탈면적 | C24: 1 : | D24: =U8 -> 0.3 | E24: =E23 -> 1 | F24: × | G24: =T11 -> 1.57 | O24: =ROUND(E24*G24,2) -> 1.57 | P24: ㎡ | R24: 뒤채움 | S24: 비빔 | U24: =O23 -> 1.5 | V24: × | W24: 0.2 | X24: ㎥/㎡ | AB24: = | AC24: =ROUND(U24*W24,2) -> 0.3
B25: 평균두께 | C25: ( | E25: =U5+AC11*0.1 -> 0.5 | F25: ＋ | G25: =U5+AC11*0.4 -> 0.95 | H25: )÷ | I25: 2 | O25: =ROUND((E25+G25)/I25,2) -> 0.73 | P25: m | Q25: 모르터 | R25: 줄눈메꿈 | S25: 1:3 | U25: =O23 -> 1.5 | V25: × | W25: 0.009 | X25: ㎥/㎡ | Z25: = | AA25: =ROUND(U25*W25,3) -> 0.014 | AE25: =+AA25+AA26 -> 0.014 | AF25: ㎥
B26: 입 적 | E26: =O23 -> 1.5 | F26: × | G26: =O25 -> 0.73 | O26: =ROUND(E26*G26,2) -> 1.1 | P26: ㎥ | R26: 천 단 | S26: 〃 | U26: 0 | V26: × | X26: × | Y26: 1 | Z26: = | AA26: =ROUND(U26*W26*Y26,3) -> 0
B27: 깬 돌 | C27: ℓ3=45cm | E27: =O23 -> 1.5 | F27: × | G27: =U5 -> 0.35 | H27: × | I27: 0.77 | J27: × | K27: 2.65 | M27: ton/㎥ | O27: =ROUND(E27*G27*I27*K27,2) -> 1.07 | P27: ton | Q27: 모 래 | U27: =AC24 -> 0.3 | V27: × | W27: 0.48 | X27: ㎥/㎡ ＋ | AA27: =AE25 -> 0.014 | AB27: × | AC27: 1.1 | AD27: ㎥/㎡ | AE27: =ROUND(U27*W27+AA27*AC27,2) -> 0.16 | AF27: ㎥
B28: 막 자 갈 | C28: ( | E28: =+O26 -> 1.1 | F28: -( | G28: =O23 -> 1.5 | H28: × | I28: 0.45 | J28: ) | O28: =ROUND((E28-(G28*I28)),2) -> 0.43 | P28: ㎥ | Q28: 자 갈 | U28: =U27 -> 0.3 | V28: × | W28: 0.65 | X28: ㎥/㎡ | AE28: =ROUND((U28)*W28,2) -> 0.2 | AF28: ㎥
B29: 고 임 돌 | E29: =E27 -> 1.5 | F29: × | G29: 0.15 | H29: ㎥/㎡ | O29: =ROUND(E29*G29,2) -> 0.23 | P29: ㎥ | Q29: 물 구 멍 | S29: Φ50mm | U29: =U24 -> 1.5 | V29: ÷ | W29: 1 | X29: 개소/2㎡ | Z29: × | AA29: =O25 -> 0.73 | AB29: m/개소 | AE29: =ROUND(U29/W29/2*AA29,2) -> 0.55 | AF29: m
B30: 터 파 기 | C30: ㅇ기초 | E30: =AC16 -> 0.5 | F30: ×( | G30: =U19 -> 0.3 | H30: ＋ | I30: =U18+V18 -> 0.7 | J30: )× | K30: 1 | L30: = | M30: =ROUND(E30*(G30+I30)*K30,2) -> 0.5 | O30: =M30+M31 -> 1.9 | P30: ㎥ | Q30: 시 멘 트 | S30: 콘크리트 | U30: =U27 -> 0.3 | V30: × | W30: 323 | X30: kg/㎥ ÷ | Z30: 40 | AA30: kg/포 | AB30: ＝ | AC30: =ROUND(U30*W30/Z30,2) -> 2.42 | AE30: =AC30+AC31 -> 2.6 | AF30: 대
C31: ㅇ비탈 | E31: =AC11 -> 1.5 | F31: ×( | G31: =O25 -> 0.73 | H31: ＋ | I31: 0.2 | J31: )× | K31: 1 | L31: = | M31: =ROUND(E31*(G31+I31)*K31,2) -> 1.4 | S31: 모 르 터 | U31: =AA25+AA26 -> 0.014 | V31: × | W31: 510 | X31: kg/㎥ ÷ | Z31: 40 | AA31: kg/포 | AB31: ＝ | AC31: =ROUND(U31*W31/Z31,2) -> 0.18
B32: 되메우기 | E32: =S16 -> 0.5 | F32: × | G32: =U19 -> 0.3 | H32: ＋ | I32: =AC11 -> 1.5 | J32: × | K32: =U19 -> 0.3 | L32: = | M32: =E32*G32+I32*K32 -> 0.6 | O32: =M32 -> 0.6 | P32: ㎥ | Q32: 유 로 폼 | S32: 간단 | T32: ( | U32: =S16 -> 0.5 | V32: + | W32: =W16 -> 0.35 | X32: ) | Y32: × | Z32: 1 | AE32: =(U32+W32)*Z32 -> 0.85 | AF32: ㎡
B33: 잔 토 | E33: =O30 -> 1.9 | F33: － | G33: =O32 -> 0.6 | O33: =+E33-G33 -> 1.3 | P33: ㎥ | Q33: 부 직 포 | U33: =AC11 -> 1.5 | V33: × | W33: 1.019 | X33: + | Y33: =W20 -> 0.95 | Z33: － | AA33: =U5 -> 0.35 | AE33: =U33*W33+Y33-AA33 -> 2.1285 | AF33: ㎡

Sheet 날개벽(800)C-TYPE산출근거
A1: ■ 관보호공 Φ800(날개벽 C-TYPE)
B2: 1. 단 면 도 및 전 개 도
I6: * 관보호공 Φ800m/m(날개벽 C-TYPE) 구조도 참조.
A16: ■ 관보호공 Φ800(날개벽 C-TYPE)
B17: 2. 토공 수량산출근거 | AG17: 1개소당
A18: 번 호 | B18: 공 종 | C18: 규 격 | D18: 산 출 근 거 | AF18: 단위 | AG18: 수 량 | AH18: 비고
B19: 터파기
E20: ( | F20: 1.05 | G20: + | H20: 2.15 | I20: ) | J20: / | K20: 2 | L20: X | M20: 1.1 | N20: X | O20: 1.565 | P20: + | Q20: ( | R20: 1.55 | S20: + | T20: =H20 -> 2.15 | U20: ) | V20: / | W20: 2 | X20: X | Y20: 0.6 | Z20: X | AA20: =O20 -> 1.565
E21: - | F21: ( | G21: 0.9 | H21: + | I21: 1 | J21: ) | K21: / | L21: 2 | M21: X | N21: 0.2 | O21: X | P21: =O20 -> 1.565 | AE21: = | AF21: ㎥ | AG21: =(F20+H20)/K20*M20*O20+(R20+T20)/W20*Y20*AA20-(G21+I21)/L21*N21*P21 -> 4.1942
E22: (( | F22: 0.95 | G22: + | H22: 1.5 | I22: ) | J22: / | K22: 2 | L22: X | M22: 0.6 | N22: X | O22: 1.214 | P22: + | Q22: ( | R22: 0.9 | S22: + | T22: 1.5 | U22: ) | V22: / | W22: 2 | X22: X | Y22: 0.6 | Z22: X | AA22: =O22 -> 1.214 | AB22: ) | AC22: X | AD22: 2 | AE22: = | AF22: ㎥ | AG22: =((F22+H22)/K22*M22*O22+(R22+T22)/W22*Y22*AA22)*2 -> 3.53274
AD23: 소계 | AF23: ㎥ | AG23: =SUM(AG21:AG22) -> 7.72694
B24: 되메우기
E25: ( | F25: 1.765 | G25: + | H25: 3.482 | I25: ) | J25: / | K25: 2 | L25: X | M25: 1.3 | N25: X | O25: 0.2 | AE25: = | AF25: ㎥ | AG25: =(F25+H25)/K25*M25*O25 -> 0.68211
E26: ( | F26: 1.565 | G26: + | H26: 3.282 | I26: ) | J26: / | K26: 2 | L26: X | M26: 1 | N26: X | O26: 0.2 | AE26: = | AF26: ㎥ | AG26: =(F26+H26)/K26*M26*O26 -> 0.4847
E27: ( | F27: 0.6 | G27: X | H27: =H26 -> 3.282 | I27: + | J27: 1.1 | K27: X | L27: =F26 -> 1.565 | M27: ) | N27: / | O27: 2 | P27: X | Q27: 1 | AE27: = | AF27: ㎥ | AG27: =(F27*H27+J27*L27)/O27*Q27 -> 1.84535
E28: =AG23 -> 7.72694 | G28: - | H28: =AG25 -> 0.68211 | J28: - | K28: =AG26 -> 0.4847 | M28: - | N28: =AG27 -> 1.84535 | AE28: = | AF28: ㎥ | AG28: =E28-H28-K28-N28 -> 4.71478
B29: 잔토
E30: =AG23 -> 7.72694 | G30: - | H30: =AG28 -> 4.71478 | AE30: = | AF30: ㎥ | AG30: =E30-H30 -> 3.01216
AD31: 소계 | AF31: ㎥ | AG31: =SUM(AG30) -> 3.01216
A36: ■ 관보호공 Φ800(날개벽 C-TYPE)
B37: 3. 구조물 수량산출근거 | AG37: 1개소당
A38: 번 호 | B38: 공 종 | C38: 규 격 | D38: 산 출 근 거 | AF38: 단위 | AG38: 수 량 | AH38: 비고
B39: 기초
B40: 기초잡석 | E40: ( | F40: =F25 -> 1.765 | G40: + | H40: =H25 -> 3.482 | I40: ) | J40: / | K40: 2 | L40: X | M40: =M25 -> 1.3 | N40: X | O40: 0.2 | AE40: = | AF40: ㎥ | AG40: =(F40+H40)/K40*M40*O40 -> 0.68211
AD41: 소계 | AF41: ㎥ | AG41: =SUM(AG40) -> 0.68211
B43: 저판
B44: 콘크리트 | E44: ( | F44: =F26 -> 1.565 | G44: + | H44: =H26 -> 3.282 | I44: ) | J44: / | K44: 2 | L44: X | M44: =M26 -> 1 | N44: X | O44: 0.2 | AE44: = | AF44: ㎥ | AG44: =(F44+H44)/K44*M44*O44 -> 0.4847
AD45: 소계 | AF45: ㎥ | AG45: =SUM(AG44) -> 0.4847
B47: 유로폼 | E47: ( | F47: 1.565 | G47: + | H47: 1.214 | I47: X | J47: 2 | K47: + | L47: 3 | M47: + | N47: 0.2 | O47: X | P47: 2 | Q47: ) | R47: X | S47: 0.2 | AE47: = | AF47: ㎡ | AG47: =(F47+H47*J47+L47+N47*P47)*S47 -> 1.4786
AD48: 소계 | AF48: ㎡ | AG48: =SUM(AG47) -> 1.4786
B49: 벽체
B50: 콘크리트 | E50: (( | F50: 0.6 | G50: + | H50: 1.1 | I50: ) | J50: / | K50: 2 | L50: X | M50: 1.131 | N50: + | O50: ( | P50: 0.6 | Q50: + | R50: =H50 -> 1.1 | S50: ) | T50: / | U50: 2 | V50: X | W50: 1.214 | X50: ) | Y50: / | Z50: 2 | AA50: X | AB50: 0.4 | AE50: = | AF50: ㎥ | AG50: =((F50+H50)/K50*M50+(P50+R50)/U50*W50)/Z50*AB50 -> 0.39865
E51: ( | F51: 1.4 | G51: X | H51: =H50 -> 1.1 | I51: + | J51: =F47 -> 1.565 | K51: X | L51: =H50 -> 1.1 | M51: ) | N51: / | O51: 2 | P51: X | Q51: 0.2 | R51: - | S51: (( | T51: 3.14 | U51: X | V51: 0.8 | W51: 2) | X51: / | Y51: 4 | Z51: X | AA51: 0.2 | AB51: ) | AE51: = | AF51: ㎥ | AG51: =(F51*H51+J51*L51)/O51*Q51-(T51*V51*V51)/Y51*AA51 -> 0.22567
AD52: 소계 | AF52: ㎥ | AG52: =SUM(AG50:AG51) -> 0.62432
B53: 유로폼 | E53: ((( | F53: =F50 -> 0.6 | G53: + | H53: =H50 -> 1.1 | I53: ) | J53: / | K53: 2 | L53: X | M53: =M50 -> 1.131 | N53: + | O53: ( | P53: =P50 -> 0.6 | Q53: + | R53: =H53 -> 1.1 | S53: ) | T53: / | U53: 2 | V53: X | W53: =W50 -> 1.214 | X53: ) | Y53: / | Z53: 2 | AA53: ) | AB53: X | AC53: 2 | AE53: = | AF53: ㎡ | AG53: =(((F53+H53)/K53*M53+(P53+R53)/U53*W53)/Z53)*AC53 -> 1.99325
E54: (( | F54: =F51 -> 1.4 | G54: X | H54: =H50 -> 1.1 | I54: + | J54: =J51 -> 1.565 | K54: X | L54: =L51 -> 1.1 | M54: ) | N54: - | O54: ( | P54: 3.14 | Q54: X | R54: =V51 -> 0.8 | S54: 2) | T54: / | U54: 4 | AE54: = | AF54: ㎡ | AG54: =(F54*H54+J54*L54)-(P54*R54*R54)/U54 -> 2.7591
AD55: 소계 | AF55: ㎥ | AG55: =SUM(AG53:AG54) -> 4.75235

Sheet 날개벽(800)A-TYPE산출근거
A1: ■ 관보호공 Φ800(날개벽 A-TYPE)
B2: 1. 단 면 도 및 전 개 도
I6: * 관보호공 Φ800m/m(날개벽 A-TYPE) 구조도 참조.
A16: ■ 관보호공 Φ800(날개벽 A-TYPE)
B17: 1. 토공 수량산출근거 | AG17: 1개소당
A18: 번 호 | B18: 공 종 | C18: 규 격 | D18: 산 출 근 거 | AF18: 단위 | AG18: 수 량 | AH18: 비고
B19: 터파기
E20: ( | F20: 1.6 | G20: + | H20: 2.4 | I20: ) | J20: / | K20: 2 | L20: X | M20: 1.4 | N20: X | O20: 4 | AE20: = | AF20: ㎥ | AG20: =(F20+H20)/K20*M20*O20 -> 11.2
E21: (( | F21: 0.8 | G21: X | H21: =M20 -> 1.4 | I21: ) | J21: / | K21: 2 | L21: X | M21: 1.7 | N21: ) | O21: X | P21: 2 | AE21: = | AF21: ㎥ | AG21: =((F21*H21)/K21*M21)*P21 -> 1.904
AD22: 소계 | AF22: ㎥ | AG22: =SUM(AG20:AG21) -> 13.104
B23: 되메우기
E24: 1 | F24: X | G24: 1 | H24: X | I24: 0.1 | AE24: = | AF24: ㎥ | AG24: =E24*G24*I24 -> 0.1
E25: 1 | F25: X | G25: 1 | H25: X | I25: 6.5 | AE25: = | AF25: ㎥ | AG25: =E25*G25*I25 -> 6.5
E26: =AG22 -> 13.104 | G26: - | H26: =AG24 -> 0.1 | J26: - | K26: =AG25 -> 6.5 | AE26: = | AF26: ㎥ | AG26: =E26-H26-K26 -> 6.504
B28: 잔토
E29: =AG22 -> 13.104 | G29: - | H29: =AG26 -> 6.504 | J29: + | K29: 0.01 | AE29: = | AF29: ㎥ | AG29: =E29-H29+K29 -> 6.61
AD30: 소계 | AF30: ㎥ | AG30: =SUM(AG29) -> 6.61
A36: ■ 관보호공 Φ800(날개벽 A-TYPE)
B37: 2. 구조물 수량산출근거 | AG37: 1개소당
A38: 번 호 | B38: 공 종 | C38: 규 격 | D38: 산 출 근 거 | AF38: 단위 | AG38: 수 량 | AH38: 비고
B39: 기초
B40: 기초잡석 | F40: 3.6 | G40: X | H40: 1.6 | I40: X | J40: 0.2 | AE40: = | AF40: ㎥ | AG40: =F40*H40*J40 -> 1.152
AD41: 소계 | AF41: ㎥ | AG41: =SUM(AG40) -> 1.152
B42: 저판
B43: 콘크리트 | F43: 3.4 | G43: X | H43: 1.4 | I43: X | J43: 0.2 | AE43: = | AF43: ㎥ | AG43: =F43*H43*J43 -> 0.952
AD44: 소계 | AF44: ㎥ | AG44: =SUM(AG43) -> 0.952
B46: 유로폼 | E46: ( | F46: 3.4 | G46: X | H46: 2 | I46: + | J46: 1.4 | K46: X | L46: 2 | M46: ) | N46: X | O46: 0.2 | AE46: = | AF46: ㎡ | AG46: =(F46*H46+J46*L46)*O46 -> 1.92
AD47: 소계 | AF47: ㎥ | AG47: =SUM(AG46) -> 1.92
B48: 벽체
B49: 콘크리트 | F49: 3.4 | G49: X | H49: 1.2 | I49: X | J49: 0.2 | K49: - | L49: (( | M49: 3.14 | N49: X | O49: 0.8 | P49: 2 ) | Q49: / | R49: 4 | S49: X | T49: 0.2 | U49: ) | AE49: = | AF49: ㎥ | AG49: =F49*H49*J49-(((M49*O49*O49)/R49)*T49) -> 0.71552
E50: ( | F50: 1.4 | G50: X | H50: 1.2 | I50: X | J50: 0.2 | K50: - | L50: (( | M50: 0.4 | N50: + | O50: 1 | P50: ) | Q50: / | R50: 2 | S50: )X | T50: 0.2 | U50: ) | V50: X | W50: 2 | AE50: = | AF50: ㎥ | AG50: =(F50*H50*J50-((M50+O50)/R50)*T50)*W50 -> 0.392
AD51: 소계 | AF51: ㎥ | AG51: =SUM(AG49:AG50) -> 1.10752
B53: 유로폼 | F53: 3.4 | G53: X | H53: 1.2 | I53: - | J53: ( | K53: 3.14 | L53: X | M53: 0.8 | N53: 2 ) | O53: / | P53: 4 | Q53: + | R53: 3 | S53: X | T53: 1.2 | AE53: = | AF53: ㎡ | AG53: =F53*H53-(K53*M53*M53)/P53+R53*T53 -> 7.1776
E54: ( | F54: 1.3 | G54: X | H54: 1.2 | I54: - | J54: ( | K54: 0.4 | L54: + | M54: 1 | N54: ) | O54: / | P54: 2 | Q54: ) | R54: X | S54: 4 | AE54: = | AF54: ㎡ | AG54: =(F54*H54-(K54+M54)/P54)*S54 -> 3.44
AD55: 소계 | AF55: ㎥ | AG55: =SUM(AG53:AG54) -> 10.6176

Sheet Φ1000(2)
A1: □배수관 터파기 계산서
A3: 공종 | B3: 규격 | H3: 산 출 내 역 | W3: M당
K5: =K22+R15*0.5*2 -> 3700
A6: 관 매설 | B6: 1000
K7: =K22+D16*0.5*2 -> 3200
D13: 500
N15: 1:0.5 | R15: =D13+D16 -> 2100
D16: =K20+600 -> 1600
K20: =B6 -> 1000
K22: =K20+600 -> 1600
A26: 1.터파기 | C26: { ( | D26: =K22/1000 -> 1.6 | E26: + | F26: =K5/1000 -> 3.7 | G26: ) | H26: ÷ | I26: 2 | J26: ｝ | K26: × | L26: =R15/1000 -> 2.1 | N26: × | O26: 1 | U26: = | V26: =ROUNDDOWN((D26+F26)/2*L26,2) -> 5.56 | W26: ㎥
A27: 2.되메우기 | C27: ［ { ( | D27: =D26 -> 1.6 | E27: + | F27: =F26 -> 3.7 | G27: ) | H27: ÷ | I27: 2 | J27: × | K27: =R15/1000 -> 2.1 | L27: } - { | M27: 3.14 | N27: × | O27: =K20/2000 -> 0.5 | P27: ²} | Q27: ] | R27: × | S27: 1 | U27: = | V27: =ROUNDDOWN(((D27+F27)/2*K27-(3.14*O27*O27))*1,2) -> 4.78 | W27: ㎥
A28: 3.잔 토 | D28: 1식 | E28: - | F28: 2식 | U28: = | V28: =V26-V27 -> 0.78 | W28: ㎥

Sheet Φ1200(2)
A1: □배수관 터파기 계산서
A3: 공종 | B3: 규격 | H3: 산 출 내 역 | W3: M당
K5: =K22+R15*0.5*2 -> 4100
A6: 관 매설 | B6: =K20 -> 1200
K7: =K22+D16*0.5*2 -> 3600
D13: 500
N15: 1:0.5 | R15: =D13+D16 -> 2300
D16: =K20+600 -> 1800
K20: 1200
K22: =K20+600 -> 1800
A26: 1.터파기 | C26: { ( | D26: =K22/1000 -> 1.8 | E26: + | F26: =K5/1000 -> 4.1 | G26: ) | H26: ÷ | I26: 2 | J26: ｝ | K26: × | L26: =R15/1000 -> 2.3 | N26: × | O26: 1 | U26: = | V26: =ROUNDDOWN((D26+F26)/2*L26,2) -> 6.78 | W26: ㎥
A27: 2.되메우기 | C27: ［ { ( | D27: =D26 -> 1.8 | E27: + | F27: =F26 -> 4.1 | G27: ) | H27: ÷ | I27: 2 | J27: × | K27: =R15/1000 -> 2.3 | L27: } - { | M27: 3.14 | N27: × | O27: =K20/2000 -> 0.6 | P27: ²} | Q27: ] | R27: × | S27: 1 | U27: = | V27: =ROUNDDOWN(((D27+F27)/2*K27-(3.14*O27*O27))*1,2) -> 5.65 | W27: ㎥
A28: 3.잔 토 | D28: 1식 | E28: - | F28: 2식 | U28: = | V28: =V26-V27 -> 1.13 | W28: ㎥

Sheet Φ1000
A1: □배수관 터파기 계산서
A3: 공종 | B3: 규격 | H3: 산 출 내 역 | W3: M당
K5: =K22+R15*0.5*2 -> 4000
A6: 관 매설 | B6: 1000
K7: =K22+D16*0.5*2 -> 3400
D13: 600
N15: 1:0.5 | R15: =D13+D16 -> 2300
D16: =K20+700 -> 1700
K20: =B6 -> 1000
K22: =K20+700 -> 1700
A26: 1.터파기 | C26: { ( | D26: =K22/1000 -> 1.7 | E26: + | F26: =K5/1000 -> 4 | G26: ) | H26: ÷ | I26: 2 | J26: ｝ | K26: × | L26: =R15/1000 -> 2.3 | N26: × | O26: 1 | U26: = | V26: =ROUNDDOWN((D26+F26)/2*L26,2) -> 6.55 | W26: ㎥
A27: 2.되메우기 | B27: 양질토사 | C27: ［ { ( | D27: =D26 -> 1.7 | E27: + | F27: =K7/1000 -> 3.4 | G27: ) | H27: ÷ | I27: 2 | J27: × | K27: =D16/1000 -> 1.7 | L27: } - { | M27: 3.14 | N27: × | O27: =K20/2000 -> 0.5 | P27: ²} | Q27: ] | R27: × | S27: 1 | U27: = | V27: =ROUNDDOWN(((D27+F27)/2*K27-(3.14*O27*O27))*1,2) -> 3.55 | W27: ㎥
A28: 3.되메우기 | B28: 일반토사 | C28: { ( | D28: =K7/1000 -> 3.4 | E28: + | F28: =F26 -> 4 | G28: ) | H28: ÷ | I28: 2 | J28: ｝ | K28: × | L28: =D13/1000 -> 0.6 | N28: × | O28: 1 | U28: = | V28: =ROUNDDOWN((D28+F28)/2*L28,2) -> 2.22 | W28: ㎥
A29: 4.잔 토 | D29: 1식 | E29: - | F29: 3식 | U29: = | V29: =V26-V28 -> 4.33 | W29: ㎥

Sheet Φ1200
A1: □배수관 터파기 계산서
A3: 공종 | B3: 규격 | H3: 산 출 내 역 | W3: M당
K5: =K22+R15*0.5*2 -> 4400
A6: 관 매설 | B6: 1200
K7: =K22+D16*0.5*2 -> 3900
D13: 500
N15: 1:0.5 | R15: =D13+D16 -> 2200
D16: =K20+500 -> 1700
K20: =B6 -> 1200
K22: =K20+1000 -> 2200
A26: 1.터파기 | C26: { ( | D26: =K22/1000 -> 2.2 | E26: + | F26: =K5/1000 -> 4.4 | G26: ) | H26: ÷ | I26: 2 | J26: ｝ | K26: × | L26: =R15/1000 -> 2.2 | N26: × | O26: 1 | U26: = | V26: =ROUNDDOWN((D26+F26)/2*L26,2) -> 7.26 | W26: ㎥
A27: 2.되메우기 | B27: 양질토사 | C27: ［ { ( | D27: =D26 -> 2.2 | E27: + | F27: =K7/1000 -> 3.9 | G27: ) | H27: ÷ | I27: 2 | J27: × | K27: =D16/1000 -> 1.7 | L27: } - { | M27: 3.14 | N27: × | O27: =K20/2000 -> 0.6 | P27: ²} | Q27: ] | R27: × | S27: 1 | U27: = | V27: =ROUNDDOWN(((D27+F27)/2*K27-(3.14*O27*O27))*1,2) -> 4.05 | W27: ㎥
A28: 3.되메우기 | B28: 일반토사 | C28: { ( | D28: =K7/1000 -> 3.9 | E28: + | F28: =F26 -> 4.4 | G28: ) | H28: ÷ | I28: 2 | J28: ｝ | K28: × | L28: =D13/1000 -> 0.5 | N28: × | O28: 1 | U28: = | V28: =ROUNDDOWN((D28+F28)/2*L28,2) -> 2.07 | W28: ㎥
A29: 4.잔 토 | D29: 1식 | E29: - | F29: 3식 | U29: = | V29: =V26-V28 -> 5.19 | W29: ㎥

Sheet 기슭막이(H=2.0)
B2: ○ 돌기슭막이(기초H=0.5m) 구조도 및 계산표 | AB2: H=2.0m
D4: - 정 면 도 | R4: - 단 면 도 | X4: =U5+AC11*0.1 -> 0.65
S5: L= | U5: 0.45
T8: 1: | U8: 0.3
T9: 돌쌓기
Z10: con.c뒤채움
T11: =ROUND(SQRT(1+U8^2)*AC11,2) -> 2.09 | AC11: 2 | AD11: =AC11+AC16 -> 2.5
AA12: 고임돌
R13: 기초콘크리트
AA14: 막자갈
S16: 0.5 | W16: 0.35 | AC16: 0.5
G18: 1 | U18: 0.2 | V18: 0.5
U19: 0.3 | AC19: ※막자갈 산출시 고입돌, 채움콘크리트 제외
W20: =U5+AC11*0.4 -> 1.25
B21: 수 량 산 출 및 재 료 표 ( m 당 )
B22: 구 분 | C22: 규 격 | E22: 산 출 기 초 | O22: 수 량 | P22: 단위 | Q22: 구 분 | S22: 규 격 | T22: 산 출 기 초 | AE22: 수 량 | AF22: 단위
B23: 정 면 적 | E23: =G18 -> 1 | F23: × | G23: =AC11 -> 2 | O23: =ROUND(E23*G23,2) -> 2 | P23: ㎡ | Q23: 콘크리트 | R23: 기 초 | S23: 레미콘 | U23: 0.50×0.70－0.50×0.15×0.50 | AB23: = | AC23: =(0.5*0.7)-(0.5*0.15*0.5) -> 0.3125 | AE23: =AC23+AC24 -> 0.7125 | AF23: ㎥
B24: 비탈면적 | C24: 1 : | D24: =U8 -> 0.3 | E24: =E23 -> 1 | F24: × | G24: =T11 -> 2.09 | O24: =ROUND(E24*G24,2) -> 2.09 | P24: ㎡ | R24: 뒤채움 | S24: 비빔 | U24: =O23 -> 2 | V24: × | W24: 0.2 | X24: ㎥/㎡ | AB24: = | AC24: =ROUND(U24*W24,2) -> 0.4
B25: 평균두께 | C25: ( | E25: =U5+AC11*0.1 -> 0.65 | F25: ＋ | G25: =U5+AC11*0.4 -> 1.25 | H25: )÷ | I25: 2 | O25: =ROUND((E25+G25)/I25,2) -> 0.95 | P25: m | Q25: 모르터 | R25: 줄눈메꿈 | S25: 1:3 | U25: =U24 -> 2 | V25: × | W25: 0.009 | X25: ㎥/㎡ | Z25: = | AA25: =ROUND(U25*W25,3) -> 0.018 | AE25: =+AA25+AA26 -> 0.018 | AF25: ㎥
B26: 입 적 | E26: =O23 -> 2 | F26: × | G26: =O25 -> 0.95 | O26: =ROUND(E26*G26,2) -> 1.9 | P26: ㎥ | R26: 천 단 | S26: 〃 | U26: 0 | V26: × | X26: × | Y26: 1 | Z26: = | AA26: =ROUND(U26*W26*Y26,3) -> 0
B27: 깬 돌 | C27: ℓ3=45cm | E27: =O23 -> 2 | F27: × | G27: =U5 -> 0.45 | H27: × | I27: 0.77 | J27: × | K27: 2.65 | M27: ton/㎥ | O27: =ROUND(E27*G27*I27*K27,2) -> 1.84 | P27: ton | Q27: 모 래 | U27: =AC24 -> 0.4 | V27: × | W27: 0.48 | X27: ㎥/㎡ ＋ | AA27: =AE25 -> 0.018 | AB27: × | AC27: 1.1 | AD27: ㎥/㎡ | AE27: =ROUND(U27*W27+AA27*AC27,2) -> 0.21 | AF27: ㎥
B28: 막 자 갈 | C28: ( | E28: =+O26 -> 1.9 | F28: -( | G28: =O23 -> 2 | H28: × | I28: 0.45 | J28: ) | O28: =ROUND((E28-(G28*I28)),2) -> 1 | P28: ㎥ | Q28: 자 갈 | U28: =U27 -> 0.4 | V28: × | W28: 0.65 | X28: ㎥/㎡ | AE28: =ROUND((U28)*W28,2) -> 0.26 | AF28: ㎥
B29: 고 임 돌 | E29: =G28 -> 2 | F29: × | G29: 0.15 | H29: ㎥/㎡ | O29: =ROUND(E29*G29,2) -> 0.3 | P29: ㎥ | Q29: 물 구 멍 | S29: Φ50mm | U29: =U24 -> 2 | V29: ÷ | W29: 1 | X29: 개소/2㎡ | Z29: × | AA29: =O25 -> 0.95 | AB29: m/개소 | AE29: =ROUND(U29/W29/2*AA29,2) -> 0.95 | AF29: m
B30: 터 파 기 | C30: ㅇ기초 | E30: =AC16 -> 0.5 | F30: ×( | G30: =U19 -> 0.3 | H30: ＋ | I30: =U18+V18 -> 0.7 | J30: )× | K30: 1 | L30: = | M30: =ROUND(E30*(G30+I30)*K30,2) -> 0.5 | O30: =M30+M31 -> 2.8 | P30: ㎥ | Q30: 시 멘 트 | S30: 콘크리트 | U30: =U27 -> 0.4 | V30: × | W30: 323 | X30: kg/㎥ ÷ | Z30: 40 | AA30: kg/포 | AB30: ＝ | AC30: =ROUND(U30*W30/Z30,2) -> 3.23 | AE30: =AC30+AC31 -> 3.46 | AF30: 대
C31: ㅇ비탈 | E31: =AC11 -> 2 | F31: ×( | G31: =O25 -> 0.95 | H31: ＋ | I31: 0.2 | J31: )× | K31: 1 | L31: = | M31: =ROUND(E31*(G31+I31)*K31,2) -> 2.3 | S31: 모 르 터 | U31: =AA25+AA26 -> 0.018 | V31: × | W31: 510 | X31: kg/㎥ ÷ | Z31: 40 | AA31: kg/포 | AB31: ＝ | AC31: =ROUND(U31*W31/Z31,2) -> 0.23
B32: 되메우기 | E32: =S16 -> 0.5 | F32: × | G32: =U19 -> 0.3 | H32: ＋ | I32: =AC11 -> 2 | J32: × | K32: =U19 -> 0.3 | L32: = | M32: =E32*G32+I32*K32 -> 0.75 | O32: =M32 -> 0.75 | P32: ㎥ | Q32: 유 로 폼 | S32: 간단 | T32: ( | U32: =S16 -> 0.5 | V32: + | W32: =W16 -> 0.35 | X32: ) | Y32: × | Z32: 1 | AE32: =(U32+W32)*Z32 -> 0.85 | AF32: ㎡
B33: 잔 토 | E33: =O30 -> 2.8 | F33: － | G33: =O32 -> 0.75 | O33: =+E33-G33 -> 2.05 | P33: ㎥ | Q33: 부 직 포 | U33: =AC11 -> 2 | V33: × | W33: 1.019 | X33: + | Y33: =W20 -> 1.25 | Z33: － | AA33: =U5 -> 0.45 | AE33: =U33*W33+Y33-AA33 -> 2.838 | AF33: ㎡

Sheet 측구수로500
A1: □측구수로 터파기 계산서
AF2: M당
A3: 공종 | B3: 규격 | C3: 산 출 내 역
S5: =R27+AE16*0.6 -> 1382
A6: 측 구 | B6: 500
A7: 수 로 | F7: 트랜치 | S7: 500 | X7: 90
S15: =S7 -> 500 | Z15: 1:0.3
AE16: =500+50+70 -> 620
S23: 610
R27: =S23+400 -> 1010
A31: 1.터파기 | F31: ( | G31: =R27/1000 -> 1.01 | I31: + | J31: =S5/1000 -> 1.382 | L31: ) | M31: ÷ | N31: 2 | O31: × | P31: =AE16/1000 -> 0.62 | R31: × | S31: 1 | AD31: = | AE31: =ROUNDDOWN((G31+J31/2)*P31,2) -> 1.05 | AF31: ㎥
A32: 2.잔토처리 | E32: ( | F32: ( | G32: =S23/1000 -> 0.61 | I32: + | J32: ( | K32: =S7/1000 -> 0.5 | M32: + | N32: =X7*2/1000 -> 0.18 | P32: ) | Q32: ) | R32: ÷ | S32: 2 | T32: × | U32: =P31 -> 0.62 | W32: × | X32: 1 | AD32: = | AE32: =ROUNDDOWN((G32+(N32+K32))/S32*U32,2) -> 0.39 | AF32: ㎥
A33: 3.되메우기 | G33: 1식 | J33: - | L33: 2식 | AD33: = | AE33: =AE31-AE32 -> 0.66 | AF33: ㎥

Sheet 돌붙임(깔기)
A1: 돌(찰)붙임 수량산출서
D6: =R15 -> 1
P7: =R17 -> 0.35 | Q7: (두께)
H12: =R16 -> 1
Q14: *설계조건
N15: =R16 -> 1 | O15: (폭) | Q15: 길이 | R15: 1
Q16: 폭 | R16: 1
Q17: 돌뒷길이 | R17: 0.35
B22: 수 량 산 출 및 재 료 표 ( ㎡ 당 )
B23: 구 분 | C23: 규 격 | D23: 산 출 기 초 | Q23: 수 량 | R23: 단위 | S23: 비 고 | V23: ※ 돌뒷길에 따라 변하는 인자
B24: 돌 붙 임 | E24: =D6 -> 1 | F24: × | G24: =R16 -> 1 | Q24: =INT(E24*G24*100)/100 -> 1 | R24: ㎡ | V24: 뒷길이 | W24: 채움 콘크리트 | X24: 고임돌 | Y24: 돌중량(ton) | Z24: 돌면길이
E25: =Q24 -> 1 | F25: × | G25: =VLOOKUP(R17,V26:Y29,4,1) -> 0.714175 | H25: ton/㎡ | Q25: =INT(E25*G25*100)/100 -> 0.71 | R25: ton
B26: 입 적 | E26: =Q24 -> 1 | F26: × | G26: =P7 -> 0.35 | Q26: =INT(E26*G26*100)/100 -> 0.35 | R26: ㎥ | V26: 0.35 | W26: 0.16 | X26: 0.12 | Y26: =0.35*2.65*0.77 -> 0.714175 | Z26: 0.25
B27: 돌 체 적 | E27: =Q24 -> 1 | F27: × | G27: =VLOOKUP(R17,V26:Z29,5,1) -> 0.25 | H27: × | I27: 2/3 | Q27: =INT((E27*G27)*2/3*100)/100 -> 0.16 | R27: ㎥ | V27: 0.45 | W27: 0.2 | X27: 0.15 | Y27: =0.45*2.65*0.77 -> 0.918225 | Z27: 0.3
B28: 고 임 돌 | E28: =Q24 -> 1 | F28: × | G28: =VLOOKUP(R17,V26:Y29,3,1) -> 0.12 | H28: ㎥/㎡ | Q28: =INT(E28*G28*100)/100 -> 0.12 | R28: ㎥ | V28: 0.55 | W28: 0.25 | X28: 0.18 | Y28: 1.1 | Z28: 0.35
B29: 콘크리트 | C29: 중량배합 | E29: =Q24 -> 1 | F29: × | G29: =VLOOKUP(R17,V26:Y29,2,1) -> 0.16 | H29: ㎥/㎡ | Q29: =ROUND(E29*G29,2) -> 0.16 | R29: ㎥ | V29: 0.6 | W29: 0.27 | X29: 0.2 | Y29: - | Z29: 0.4
B30: 친 자 갈 | E30: =+Q29 -> 0.16 | F30: × | G30: 0.65 | H30: ㎥/㎡ | Q30: =ROUND(E30*G30,2) -> 0.1 | R30: ㎥
B31: 친 모 래 | E31: =+Q29 -> 0.16 | F31: × | G31: 0.48 | H31: ㎥/㎡ | Q31: =ROUND(E31*G31,2) -> 0.08 | R31: ㎥
B32: 시 멘 트 | E32: =+Q29 -> 0.16 | F32: × | G32: 323 | H32: kg/㎥ | I32: ÷ | J32: 40 | K32: kg/대 | Q32: =ROUND(E32*G32/J32,2) -> 1.29 | R32: 대
B33: 바닥파기 | E33: =D6 -> 1 | F33: × | G33: =N15 -> 1 | H33: × | I33: =P7 -> 0.35 | Q33: =ROUND(E33*G33*I33,2) -> 0.35 | R33: ㎥
B34: 잔 토 | E34: =Q33 -> 0.35 | F34: － | G34: 0 | Q34: =+E34-G34 -> 0.35 | R34: ㎥

Sheet 돌붙임L3=45(사방)
B2: ㅇ 돌붙임(찰붙임) 구조도 및 계산표(m2당)
C4: ※ 바닥 10cm 이상 콘크리트(버림)를 포설 후 돌붙임을 실행하여
C6: 바닥부에 공극이 발생하지 않도록 하며, 돌의 천단부까지 콘크리트가 채워지도록 작업
V10: 45
W11: Cm
B19: 수 량 산 출 및 재 료 표 ( 개 소 당 )
B20: 구 분 | C20: 규 격 | E20: 산 출 기 초 | V20: 수 량 | W20: 단위 | X20: 비 고
B21: 면 적 | E21: ( | F21: 1 | G21: ＋ | H21: 1 | I21: ) ÷ | J21: 2 | K21: × | L21: 1 | V21: =ROUND((F21+H21)/J21*L21,2) -> 1 | W21: ㎡
B22: 두 께 | V22: 0.45 | W22: m
B23: 입 적 | F23: =+V21 -> 1 | G23: × | H23: =V22 -> 0.45 | V23: =ROUND(F23*H23,2) -> 0.45 | W23: ㎥
B24: 돌 | C24: 30×30×45cm | F24: =V21 -> 1 | G24: × | H24: 0.45 | I24: x | J24: 0.77 | K24: x | L24: 2.65 | M24: ton/㎡ | V24: =ROUND(F24*H24*J24*L24,2) -> 0.92 | W24: ton
B25: 모르타르 | C25: 1:3 | F25: =V21 -> 1 | G25: × | H25: 0.009 | I25: ㎥/㎡ | V25: =ROUND(F25*H25,3) -> 0.009 | W25: ㎥
B26: 고 임 돌 | F26: =V21 -> 1 | G26: × | H26: 0.15 | I26: ㎥/㎡ | V26: =ROUND(F26*H26,2) -> 0.15 | W26: ㎥
B27: 콘크리트 | F27: 1 | G27: × | H27: 0.2 | I27: ㎥/㎡ | J27: + | K27: 1 | L27: × | M27: 0.1 | N27: ㎥/㎡ | V27: =ROUND(F27*H27+K27*M27,2) -> 0.3 | W27: ㎥ | X27: 버림포함
B28: 터파기 | F28: =V22 -> 0.45 | G28: × | H28: 1 | I28: × | J28: 1 | V28: =F28*H28*J28 -> 0.45 | W28: ㎥

Sheet 혼합석부설 (3.3)
A1: ▣ 혼합석부설(B=3.0m)
A2: 공종 | B2: 규격 | H2: 산 출 내 역
A4: 혼합석부설 | B4: T=10cm
I9: 3
J13: 노면
E18: ◇. 다짐 전 두께 : | H18: 10 | I18: ㎝
E19: ◆. 다짐 후 두께 : | H19: 7 | I19: ㎝
A22: 혼합쇄석 | B22: 쇄석25mm 석분 | F22: 3 | G22: × | H22: 0.1 | I22: × | K22: 1 | Q22: = | R22: =F22*H22 -> 0.3 | T22: ㎥
A23: 다짐 | F23: =F22 -> 3 | G23: × | H23: 1 | Q23: = | R23: =F23 -> 3 | T23: ㎡

Sheet 국가지점번호판(단독형)
C3: ㅇ | D3: 국가지점번호판
AK34: 공종 | AL34: 산출근거 | AM34: 단위 | AN34: 수량
AK35: 국가지점번호판 | AL35: 1 | AM35: 개소 | AN35: 1
AK36: 기초콘크리트 | AL36: =0.3*0.3*0.3 -> 0.027 | AM36: m3 | AN36: 0.3×0.3×0.3
AK37: 운반 및 설치비 | AL37: 1 | AM37: 식 | AN37: 포함

Sheet 임도준공판
A1: ㅇ임도간이준공판 구조도 및 수량산출서
B22: 구 분 | C22: 규 격 | E22: 산 출 기 초 | V22: 수 량 | W22: 단 위 | X22: 비 고
B23: 화 강 암 | C23: 300*200*600 | E23: 0.3 × 0.2 × 0.6 | V23: =0.3*0.2*0.6 -> 0.036 | W23: ㎥
B24: 기 초 | C24: 기초콘크리트 | E24: 0.4 × 0.2 × 0.25 - 0.3 × 0.2 × 0.1 | V24: =0.4*0.2*0.25-0.3*0.2*0.1 -> 0.014 | W24: ㎥
B25: 유 로 폼 | E25: 0.3 × 0.25 × 2 + 0.4 × 0.25 × 2 | V25: =0.3*0.25*2+0.4*0.25*2 -> 0.35 | W25: ㎡
B26: 글자새김 | E26: 문자 : 9자 , 숫자 : 12자 (12 + 9 × 0.9 ) | V26: 19.8 | W26: 자
B27: 터 파 기 | E27: ( 0.4 + 0.2 ) × ( 0.3 + 0.2 ) × 0.35 | V27: =(0.4+0.2)*(0.3+0.2)*0.35 -> 0.105 | W27: ㎥
B28: 되메우기 | E28: 0.11 - 0.4 × 0.3 × 0.25 | V28: =0.11-0.4*0.3*0.25 -> 0.08 | W28: ㎥
B29: 잔토정리 | E29: 0.11 - 0.08 | V29: =V27-V28 -> 0.025 | W29: ㎥

Sheet 7급줄(35도)
B2: □ 7급줄떼 구조도 및 계산표
C5: - 단끊기(경사 | D5: 35 | E5: 。 기준) | I5: - 정 면 도 | P5: - 단 면 도
O6: 묘 목
D7: 지반선
C10: 비탈다듬기 | O10: 법면떼
F12: 단간직고
F13: (1.5~1.8)
C14: 단끊기 | E14: 단절고
E15: =ROUND(TAN(D5*PI()/180)*C20,2) -> -0.42 | R15: 높이 | S15: -0.4
C19: 계단폭 | P19: 0.2 | Q19: 0.4
C20: -0.6 | P20: 발디딤 | Q20: 천단폭
P21: =P19+Q19 -> 0.6
B23: 수 량 산 출 및 재 료 표 ( m 당 )
B24: 구 분 | D24: 규 격 | F24: 산 출 기 초 | R24: 수 량 | S24: 단위 | T24: 비 고
B25: 떼 | D25: 20 * 20 cm | F25: 1 | G25: × | H25: 0.4 | I25: × | J25: 1.05 | R25: =ROUND(F25*H25*J25,2) -> 0.42 | S25: ㎡
B26: 떼붙임면적 | F26: 1 | G26: × | H26: 0.4 | R26: =ROUND(F26*H26,2) -> 0.4 | S26: ㎡
B27: 단 끊 기 | F27: =-C20 -> 0.6 | G27: × | H27: =-E15 -> 0.42 | I27: × | J27: 1 | K27: ÷ | L27: 2 | R27: =ROUND(F27*H27*J27*1/2,3) -> 0.126 | S27: ㎥

Sheet ------->미적용

Sheet 돌-골막이치수
B1: □.돌 골막이 치수조서 | I1: 총 | J1: =COUNTA(B6:B12) -> 6 | K1: 개소
B3: No | D3: 상장(A) | E3: 하장(B) | F3: 높이(C) | G3: 방수로 | K3: 정면적 | L3: 비고
G4: 상장ⓐ | H4: 하장ⓑ) | I4: 높이© | J4: 비탈
D5: (m) | E5: (m) | F5: (m) | G5: (m) | H5: (m) | I5: (m) | K5: (㎡)
B6: =[172]관집계!$B$12 -> 33+5 | D6: 10 | E6: 4 | F6: 2.5 | G6: 0 | H6: 0 | I6: 0 | J6: 0 | K6: =(D6+E6)/2*F6-(G6+H6)/2*I6 -> 17.5
B7: =[172]관집계!$B$13 -> 37+5 | D7: 12 | E7: 5 | F7: 2.5 | G7: 0 | H7: 0 | I7: 0 | J7: 0 | K7: =(D7+E7)/2*F7-(G7+H7)/2*I7 -> 21.25
B8: =[172]관집계!$B$14 -> 0 | D8: 12 | E8: 5 | F8: 2.5 | G8: 0 | H8: 0 | I8: 0 | J8: 0 | K8: =(D8+E8)/2*F8-(G8+H8)/2*I8 -> 21.25
B9: =[172]관집계!$B$15 -> 0 | D9: 15 | E9: 7 | F9: 3 | G9: 0 | H9: 0 | I9: 0 | J9: 0 | K9: =(D9+E9)/2*F9-(G9+H9)/2*I9 -> 33
B10: =[172]관집계!$B$16 -> 0 | D10: 7 | E10: 3 | F10: 2.5 | G10: 0 | H10: 0 | I10: 0 | J10: 0 | K10: =(D10+E10)/2*F10-(G10+H10)/2*I10 -> 12.5
B11: =[172]관집계!$B$19 -> 0 | D11: 7 | E11: 3 | F11: 2.5 | G11: 0 | H11: 0 | I11: 0 | J11: 0 | K11: =(D11+E11)/2*F11-(G11+H11)/2*I11 -> 12.5
B13: 계 | D13: =SUM(D5:D12) -> 63 | E13: =SUM(E5:E12) -> 27 | F13: =SUM(F5:F12) -> 15.5 | G13: =SUM(G5:G12) -> 0 | H13: =SUM(H5:H12) -> 0 | I13: =SUM(I5:I12) -> 0 | J13: =SUM(J5:J12) -> 0 | K13: =ROUNDDOWN(SUM(K5:K12),1) -> 118
B14: 평균치수 | D14: =D13/$J$1 -> 10.5 | E14: =E13/$J$1 -> 4.5 | F14: =F13/$J$1 -> 2.5833333 | G14: =G13/$J$1 -> 0 | H14: =H13/$J$1 -> 0 | I14: =I13/$J$1 -> 0 | J14: =J13/$J$1 -> 0 | K14: =K13/$J$1 -> 19.666667
F16: A
F17: ⓐ
F19: ⓑ
C20: ⓒ
J21: C
F25: B

Sheet 골막이(찰)(치수조서연결)
B2: 돌골막이(찰쌓기) 수량산출서
M5: *설계조건
H6: ='돌-골막이치수'!D14 -> 10.5 | N6: 돌뒷길이 | P6: 45 | Q6: ㎝ | T6: =ROUNDDOWN(T7+(W10*P7),2) -> 0.7
E7: =(H6-2*F7-G7)/2 -> 5.25 | F7: =W10*P8 -> 0 | G7: ='돌-골막이치수'!H14 -> 0 | J7: =F7 -> 0 | K7: =E7 -> 5.25 | N7: 반수면비탈 1: | P7: 0.3 | T7: =ROUNDDOWN((0.1*X13)+P6/100,2) -> 0.7
N8: 방수로비탈 1: | P8: ='돌-골막이치수'!J14 -> 0
W10: ='돌-골막이치수'!I14 -> 0
R11: 1: | S11: =P7 -> 0.3
D13: =INT(SQRT((((H6-G18)/2)^2)+(X13^2))*100)/100 -> 3.95 | X13: ='돌-골막이치수'!F14 -> 2.5833333
W14: =X13-W10 -> 2.5833333
P15: 터파기선
R17: 0.3
G18: ='돌-골막이치수'!E14 -> 4.5 | S18: =ROUNDUP((0.4*X13)+P6/100,2) -> 1.49
C21: 수 량 산 출 및 재 료 표 ( 개소당)
C22: 구 분 | D22: 규 격 | F22: 산 출 기 초 | W22: 수량 | X22: 단위 | Y22: 비고
C23: 정 면 적 | F23: ① 정면적 : | G23: ( | H23: =H6 -> 10.5 | I23: ＋ | J23: =G18 -> 4.5 | K23: ) ÷ | L23: 2 | M23: × | N23: =X13 -> 2.5833333 | O23: ＝ | P23: =INT((H23+J23)/L23*N23*100)/100 -> 19.37 | W23: =+P23-P24 -> 18.8676 | X23: ㎡ | Y23: ①-②
F24: ② 파형강관 : | G24: ( | H24: 0.4 | I24: × | J24: 0.4 | K24: ) × | L24: 3.14 | O24: ＝ | P24: =(H24*J24)*L24 -> 0.5024
C25: 돌 쌓 기 | J25: =W23 -> 18.8676 | M25: × | N25: =ROUND(SQRT(S11^2+1),2) -> 1.04 | O25: ＝ | P25: =INT(J25*N25*100)/100 -> 19.62 | W25: =P25 -> 19.62 | X25: ㎡
C26: 평균두께 | G26: {( | H26: =P6/100 -> 0.45 | I26: ＋ | J26: 0.1 | K26: × | L26: =X13 -> 2.5833333 | M26: ) ＋ ( | N26: =P6/100 -> 0.45 | O26: ＋ | P26: 0.4 | Q26: × | R26: =X13 -> 2.5833333 | S26: )} ÷ | T26: 2 | W26: =INT(((H26+J26*L26)+(N26+P26*R26))/2*100)/100 -> 1.09 | X26: m | AD26: ※ 돌뒷길에 따라 변하는 인자
C27: 입 적 | H27: =+W23 -> 18.8676 | I27: × | J27: =+W26 -> 1.09 | W27: =INT(H27*J27*100)/100 -> 20.56 | X27: ㎥ | AD27: 뒷길이 | AE27: 채움 콘크리트 | AF27: 고임돌 | AG27: 돌중량(ton)
C28: 돌붙임 | H28: =H6 -> 10.5 | I28: × | J28: =T7-P6/100 -> 0.25 | W28: =H28*J28 -> 2.625 | X28: =X25 -> ㎡
C29: 야 면 석 | H29: =W25+W28 -> 22.245 | I29: × | J29: =VLOOKUP(P6,AD29:AG32,4,1) -> 0.88 | K29: ton/㎡ | W29: =ROUNDUP(H29*J29,2) -> 19.58 | X29: ton | AD29: 35 | AE29: 0.16 | AF29: 0.12 | AG29: 0.575
C30: 고 임 돌 | H30: =H29 -> 22.245 | I30: × | J30: =VLOOKUP(P6,AD29:AG32,3,1) -> 0.15 | K30: ㎥/㎡당 | W30: =ROUND(H30*J30,2) -> 3.34 | X30: ㎥ | AD30: 45 | AE30: 0.2 | AF30: 0.15 | AG30: 0.88
C31: 막 자 갈 | H31: =+W27 -> 20.56 | I31: － | J31: ( | K31: =H29 -> 22.245 | L31: × | M31: =P6/100 -> 0.45 | N31: × | O31: 2/3 | P31: + | Q31: =+W30 -> 3.34 | W31: =INT((H31-(K31*M31*(2/3)+Q31))*100)/100 -> 10.54 | X31: ㎥ | AD31: 55 | AE31: 0.25 | AF31: 0.18 | AG31: 1.1
C32: 콘크리트 | D32: 중량배합 | H32: =K31 -> 22.245 | I32: × | J32: =VLOOKUP(P6,AD29:AG32,2,1) -> 0.2 | K32: ㎥/㎡ | W32: =ROUND(H32*J32,2) -> 4.45 | X32: ㎥ | AD32: 60 | AE32: 0.27 | AF32: 0.2 | AG32: -
C33: 물구멍 | H33: =W25 -> 19.62 | J33: 2 | L33: ㎡/개소) | N33: × | P33: =0.5 -> 0.5 | Q33: m/개소 | S33: ＝ | W33: =ROUND(H33/J33*P33,2) -> 4.91 | X33: m
C34: 바닥파기 | G34: ( | H34: =INT(SQRT(((H23-J23)/2)^2+(N23)^2)*100)/100 -> 3.95 | I34: × | J34: 0.5 | K34: × | L34: =W26+0.3 -> 1.39 | M34: × | N34: 2 | O34: ) ＋ ( | P34: =J23 -> 4.5 | Q34: × | R34: 0.5 | S34: × | T34: =L34 -> 1.39 | U34: ) | W34: =INT(((H34*J34*L34*N34)+(P34*R34*T34))*100)/100 -> 8.61 | X34: ㎥
C35: 잔 토 | H35: =W34 -> 8.61 | I35: － | J35: =H34 -> 3.95 | K35: × | L35: 0.5 | M35: × | N35: =L34-D34 -> 1.39 | O35: ) ＋ ( | P35: =P34 -> 4.5 | Q35: × | R35: 0.5 | S35: × | T35: =N35 -> 1.39 | U35: ) | W35: =ROUND(H35-((J35*L35*N35)+(P35*R35*T35)),2) -> 2.74 | X35: ㎥
C36: 되메우기 | H36: =W34 -> 8.61 | I36: － | K36: =W35 -> 2.74 | W36: =H36-K36 -> 5.87 | X36: ㎥

Sheet 기슭막이(1.5 기초유)
G1: 돌기슭막이(기초有) 수량산출서
X2: H | Y2: = | Z2: =AC5 -> 1.5 | AB2: m
G5: 1 | Y5: ※ 설계조건 | AA5: 기슭막이높이 : | AC5: 1.5
V6: =ROUND(AC7+0.1*Y11,2) -> 0.6 | AA6: 반수면비탈 :1: | AC6: 0.3
AA7: 돌뒷길이 : | AC7: 0.45
S11: 1: | T11: =AC6 -> 0.3 | Y11: =AC5 -> 1.5
S12: 0.2
Q15: 터파기선
Q16: 0.5 | R16: 0.3 | U16: 0.3 | Y16: 0.35
G17: 1 | S17: 0.7
U18: =ROUND(AC7+0.4*Y11,2) -> 1.05
B21: 수 량 산 출 및 재 료 표 ( m 당 )
B22: 구 분 | C22: 규 격 | E22: 산 출 기 초 | N22: 수 량 | O22: 단위 | P22: 구 분 | Q22: 규 격 | R22: 산 출 기 초 | AB22: 수 량 | AC22: 단위 | AF22: ※ 돌뒷길에 따라 변하는 인자
B23: 정 면 적 | E23: =G17 -> 1 | F23: × | G23: =Y11 -> 1.5 | N23: =INT(E23*G23*100)/100 -> 1.5 | O23: ㎡ | P23: 콘크리트 | Q23: 레미콘 | S23: =S17 -> 0.7 | T23: × | U23: =Q16 -> 0.5 | V23: - | W23: =Q16-Y16 -> 0.15 | X23: × | Y23: =S17-S12 -> 0.5 | Z23: × | AA23: 0.5 | AB23: =ROUND(S23*U23-W23*Y23*AA23,2) -> 0.31 | AC23: ㎥ | AF23: 뒷길이 | AG23: 채움 콘크리트 | AH23: 고임돌 | AI23: 돌중량(ton)
B24: 평균두께 | E24: =V6 -> 0.6 | F24: ＋ | G24: =U18 -> 1.05 | H24: ÷ | I24: 2 | N24: =ROUND((E24+G24)/I24,2) -> 0.83 | O24: m | P24: 채움con.c | Q24: 중량배합 | S24: =+N26 -> 1.57 | T24: × | U24: =VLOOKUP(AC7,AF25:AI28,2,1) -> 0.2 | V24: ㎥/㎡ | AB24: =ROUND(S24*U24,2) -> 0.31 | AC24: ㎥
B25: 체 적 | E25: =N23 -> 1.5 | F25: × | G25: =N24 -> 0.83 | N25: =ROUND(E25*G25,2) -> 1.25 | O25: ㎥ | P25: 모 르 터 | Q25: 1:3 | S25: =+N26 -> 1.57 | T25: × | U25: 0.009 | V25: ㎥/㎡ | AB25: =ROUNDUP(S25*U25,3) -> 0.015 | AC25: ㎥ | AF25: 0.35 | AG25: 0.16 | AH25: 0.12 | AI25: 0.575
B26: 돌 쌓 기 | E26: =+E23 -> 1 | F26: × | G26: =ROUND(AC5*SQRT(1+AC6^2),2) -> 1.57 | N26: =ROUND(E26*G26,2) -> 1.57 | O26: ㎡ | P26: 친 모 래 | S26: =AB24 -> 0.31 | T26: × | U26: 0.48 | V26: ㎥/㎡ | X26: ＝ | Y26: =ROUNDUP(S26*U26,2) -> 0.15 | AB26: =Y26+Y27 -> 0.17 | AC26: ㎥ | AF26: 0.45 | AG26: 0.2 | AH26: 0.15 | AI26: 0.88
E27: =+N26 -> 1.57 | F27: × | G27: =VLOOKUP(AC7,AF25:AI28,4,1) -> 0.88 | H27: ton/㎡ | N27: =ROUND(E27*G27,2) -> 1.38 | O27: ton | S27: =AB25 -> 0.015 | T27: × | U27: 1.1 | V27: ㎥/㎡ | X27: ＝ | Y27: =ROUNDUP(S27*U27,2) -> 0.02 | AF27: 0.55 | AG27: 0.25 | AH27: 0.18 | AI27: 1.1
B28: 막 자 갈 | E28: =+N25 -> 1.25 | F28: - | G28: =ROUND((N26*AC7)*2/3,2) -> 0.47 | H28: + | I28: =N29 -> 0.23 | N28: =ROUND(E28-(G28+I28),2) -> 0.55 | O28: ㎥ | P28: 친 자 갈 | S28: =S26 -> 0.31 | T28: × | U28: 0.65 | V28: ㎥/㎡ | AB28: =INT((S28)*U28*100)/100 -> 0.2 | AC28: ㎥ | AF28: 0.6 | AG28: 0.27 | AH28: 0.2 | AI28: -
B29: 고 임 돌 | E29: =+N26 -> 1.57 | F29: × | G29: =VLOOKUP(AC7,AF25:AI28,3,1) -> 0.15 | H29: ㎥/㎡ | N29: =INT(E29*G29*100)/100 -> 0.23 | O29: ㎥ | P29: 시 멘 트 | Q29: 콘크리트 | S29: =S26 -> 0.31 | T29: × | U29: 323 | V29: kg/㎥ ÷ | X29: 40 | Y29: kg/대 | Z29: ＝ | AA29: =INT(S29*U29/X29*100)/100 -> 2.5 | AB29: =AA29+AA30 -> 2.69 | AC29: 대
B30: 바닥파기 | C30: 기 초 | E30: =Q16 -> 0.5 | F30: × | G30: =S17 -> 0.7 | H30: ＋ | I30: =R16+U16 -> 0.6 | J30: × | K30: 1 | L30: ＝ | M30: =ROUND(E30*(G30+I30)*K30,2) -> 0.65 | N30: =M30+M31 -> 1.9 | O30: ㎥ | Q30: 모 르 터 | S30: =AB25 -> 0.015 | T30: × | U30: 510 | V30: kg/㎥ ÷ | X30: 40 | Y30: kg/대 | Z30: ＝ | AA30: =INT(S30*U30/X30*100)/100 -> 0.19
C31: 본 체 | E31: =Y11 -> 1.5 | F31: × | G31: =N24 -> 0.83 | H31: × | I31: 1 | L31: ＝ | M31: =ROUND(E31*G31*I31,2) -> 1.25
B32: 되메우기 | E32: =N30 -> 1.9 | F32: - | G32: =AB23 -> 0.31 | H32: ＋ | I32: =N25 -> 1.25 | N32: =+E32-(G32+I32) -> 0.34 | O32: ㎥ | P32: 거 푸 집 | Q32: 6회사용 | S32: =Q16 -> 0.5 | T32: + | U32: =Y16 -> 0.35 | AB32: =S32+U32 -> 0.85 | AC32: ㎡
B33: 잔 토 | E33: =N30 -> 1.9 | F33: － | G33: =N32 -> 0.34 | N33: =+E33-G33 -> 1.56 | O33: ㎥ | P33: 물 구 멍 | Q33: Φ50mm | S33: =+N26 -> 1.57 | T33: ÷ | U33: 1 | V33: 개소/2㎡ | X33: × | Y33: 0.5 | Z33: m/개소 | AB33: =INT(S33/U33/2*Y33*100)/100 -> 0.39 | AC33: m

Sheet 기슭막이(1.5 기초유) (2)
G1: 돌기슭막이(기초有) 수량산출서
X2: H | Y2: = | Z2: =AC5 -> 2 | AB2: m
G5: 1 | Y5: ※ 설계조건 | AA5: 기슭막이높이 : | AC5: 2
V6: =ROUND(AC7+0.1*Y11,2) -> 0.65 | AA6: 반수면비탈 :1: | AC6: 0.3
AA7: 돌뒷길이 : | AC7: 0.45
S11: 1: | T11: =AC6 -> 0.3 | Y11: =AC5 -> 2
S12: 0.2
Q15: 터파기선
Q16: 0.5 | R16: 0.3 | U16: 0.3 | Y16: 0.35
G17: 1 | S17: 0.7
U18: =ROUND(AC7+0.4*Y11,2) -> 1.25
B21: 수 량 산 출 및 재 료 표 ( m 당 )
B22: 구 분 | C22: 규 격 | E22: 산 출 기 초 | N22: 수 량 | O22: 단위 | P22: 구 분 | Q22: 규 격 | R22: 산 출 기 초 | AB22: 수 량 | AC22: 단위 | AF22: ※ 돌뒷길에 따라 변하는 인자
B23: 정 면 적 | E23: =G17 -> 1 | F23: × | G23: =Y11 -> 2 | N23: =INT(E23*G23*100)/100 -> 2 | O23: ㎡ | P23: 콘크리트 | Q23: 레미콘 | S23: =S17 -> 0.7 | T23: × | U23: =Q16 -> 0.5 | V23: - | W23: =Q16-Y16 -> 0.15 | X23: × | Y23: =S17-S12 -> 0.5 | Z23: × | AA23: 0.5 | AB23: =ROUND(S23*U23-W23*Y23*AA23,2) -> 0.31 | AC23: ㎥ | AF23: 뒷길이 | AG23: 채움 콘크리트 | AH23: 고임돌 | AI23: 돌중량(ton)
B24: 평균두께 | E24: =V6 -> 0.65 | F24: ＋ | G24: =U18 -> 1.25 | H24: ÷ | I24: 2 | N24: =ROUND((E24+G24)/I24,2) -> 0.95 | O24: m | P24: 채움con.c | Q24: 중량배합 | S24: =+N26 -> 2.09 | T24: × | U24: =VLOOKUP(AC7,AF25:AI28,2,1) -> 0.2 | V24: ㎥/㎡ | AB24: =ROUND(S24*U24,2) -> 0.42 | AC24: ㎥
B25: 체 적 | E25: =N23 -> 2 | F25: × | G25: =N24 -> 0.95 | N25: =ROUND(E25*G25,2) -> 1.9 | O25: ㎥ | P25: 모 르 터 | Q25: 1:3 | S25: =+N26 -> 2.09 | T25: × | U25: 0.009 | V25: ㎥/㎡ | AB25: =ROUNDUP(S25*U25,3) -> 0.019 | AC25: ㎥ | AF25: 0.35 | AG25: 0.16 | AH25: 0.12 | AI25: 0.575
B26: 돌 쌓 기 | E26: =+E23 -> 1 | F26: × | G26: =ROUND(AC5*SQRT(1+AC6^2),2) -> 2.09 | N26: =ROUND(E26*G26,2) -> 2.09 | O26: ㎡ | P26: 친 모 래 | S26: =AB24 -> 0.42 | T26: × | U26: 0.48 | V26: ㎥/㎡ | X26: ＝ | Y26: =ROUNDUP(S26*U26,2) -> 0.21 | AB26: =Y26+Y27 -> 0.24 | AC26: ㎥ | AF26: 0.45 | AG26: 0.2 | AH26: 0.15 | AI26: 0.88
E27: =+N26 -> 2.09 | F27: × | G27: =VLOOKUP(AC7,AF25:AI28,4,1) -> 0.88 | H27: ton/㎡ | N27: =ROUND(E27*G27,2) -> 1.84 | O27: ton | S27: =AB25 -> 0.019 | T27: × | U27: 1.1 | V27: ㎥/㎡ | X27: ＝ | Y27: =ROUNDUP(S27*U27,2) -> 0.03 | AF27: 0.55 | AG27: 0.25 | AH27: 0.18 | AI27: 1.1
B28: 막 자 갈 | E28: =+N25 -> 1.9 | F28: - | G28: =ROUND((N26*AC7)*2/3,2) -> 0.63 | H28: + | I28: =N29 -> 0.31 | N28: =ROUND(E28-(G28+I28),2) -> 0.96 | O28: ㎥ | P28: 친 자 갈 | S28: =S26 -> 0.42 | T28: × | U28: 0.65 | V28: ㎥/㎡ | AB28: =INT((S28)*U28*100)/100 -> 0.27 | AC28: ㎥ | AF28: 0.6 | AG28: 0.27 | AH28: 0.2 | AI28: -
B29: 고 임 돌 | E29: =+N26 -> 2.09 | F29: × | G29: =VLOOKUP(AC7,AF25:AI28,3,1) -> 0.15 | H29: ㎥/㎡ | N29: =INT(E29*G29*100)/100 -> 0.31 | O29: ㎥ | P29: 시 멘 트 | Q29: 콘크리트 | S29: =S26 -> 0.42 | T29: × | U29: 323 | V29: kg/㎥ ÷ | X29: 40 | Y29: kg/대 | Z29: ＝ | AA29: =INT(S29*U29/X29*100)/100 -> 3.39 | AB29: =AA29+AA30 -> 3.63 | AC29: 대
B30: 바닥파기 | C30: 기 초 | E30: =Q16 -> 0.5 | F30: × | G30: =S17 -> 0.7 | H30: ＋ | I30: =R16+U16 -> 0.6 | J30: × | K30: 1 | L30: ＝ | M30: =ROUND(E30*(G30+I30)*K30,2) -> 0.65 | N30: =M30+M31 -> 2.55 | O30: ㎥ | Q30: 모 르 터 | S30: =AB25 -> 0.019 | T30: × | U30: 510 | V30: kg/㎥ ÷ | X30: 40 | Y30: kg/대 | Z30: ＝ | AA30: =INT(S30*U30/X30*100)/100 -> 0.24
C31: 본 체 | E31: =Y11 -> 2 | F31: × | G31: =N24 -> 0.95 | H31: × | I31: 1 | L31: ＝ | M31: =ROUND(E31*G31*I31,2) -> 1.9
B32: 되메우기 | E32: =N30 -> 2.55 | F32: - | G32: =AB23 -> 0.31 | H32: ＋ | I32: =N25 -> 1.9 | N32: =+E32-(G32+I32) -> 0.34 | O32: ㎥ | P32: 거 푸 집 | Q32: 6회사용 | S32: =Q16 -> 0.5 | T32: + | U32: =Y16 -> 0.35 | AB32: =S32+U32 -> 0.85 | AC32: ㎡
B33: 잔 토 | E33: =N30 -> 2.55 | F33: － | G33: =N32 -> 0.34 | N33: =+E33-G33 -> 2.21 | O33: ㎥ | P33: 물 구 멍 | Q33: Φ50mm | S33: =+N26 -> 2.09 | T33: ÷ | U33: 1 | V33: 개소/2㎡ | X33: × | Y33: 0.5 | Z33: m/개소 | AB33: =INT(S33/U33/2*Y33*100)/100 -> 0.52 | AC33: m

Sheet 규준틀 (수평)
A1: 수량산출 및 재료표 ( 개소당 )
A2: 0 규준틀 구조도 (수평)
A17: 구분 | B17: 규격 | C17: 산출기초 | D17: 수량 | E17: 단위 | F17: 비고
A18: 각재 | B18: 50mm × 50mm | C18: 0.05 × 0.05 × 1.55 + 0.05 × 0.05 × 0.20 | D18: =0.05*0.05*1.55+0.05*0.05*0.2 -> 0.004375 | E18: m3
A19: 판재 | B19: T = 12mm | C19: (0.50 + 0.70) × 0.5 × 0.2 × 0.012 × 2 | D19: =(0.5+0.7)*0.5*0.2*0.012*2 -> 0.00288 | E19: =E18 -> m3
A20: 못 | D20: 0.03 | E20: kg

Sheet 규준틀 (비탈)
A1: 수량산출 및 재료표 ( 개소당 )
A2: 0 규준틀 구조도 (비탈)
A17: 구분 | B17: 규격 | C17: 산출기초 | D17: 수량 | E17: 단위 | F17: 비고
A18: 각재 | B18: 50mm × 50mm | C18: 0.05 × 0.05 × 1.1 + 0.05 × 0.05 × 0.9 | D18: =0.05*0.05*1.1+0.05*0.05*0.9 -> 0.005 | E18: m3
A19: 판재 | B19: T = 12mm | C19: (1.50 + 1.70) × 0.5 × 0.20 × 0.012 | D19: =(1.5+1.7)*0.5*0.2*0.12 -> 0.0384 | E19: =E18 -> m3
A20: 못 | D20: 0.03 | E20: kg

Sheet L형수로-(201)
A1: 수량산출서
